BEGIN:VCALENDAR
VERSION:2.0
PRODID:-//ChamberMaster//Event Calendar 2.0//EN
METHOD:PUBLISH
X-PUBLISHED-TTL:P3D
REFRESH-INTERVAL:P3D
CALSCALE:GREGORIAN
BEGIN:VEVENT
DTSTART:20190512T170000Z
DTEND:20190512T190000Z
X-MICROSOFT-CDO-ALLDAYEVENT:FALSE
SUMMARY:Sunday Jazz Brunch at Rediviva
DESCRIPTION:Join us for killer food\, fantastic live jazz every week\, and some great day drinking cocktails! Reservations are available for Mother's Day only\, then it will be on a first come\, first served basis every Sunday and also hit the Aberdeen Sunday Market!
X-ALT-DESC;FMTTYPE=text/html:<span style="font-family:arial\;"><span style="caret-color: rgb(29\, 33\, 41)\; color: rgb(29\, 33\, 41)\; white-space: pre-wrap\;">Join us for killer food\, fantastic live jazz every week\, and some great day drinking cocktails! Reservations are available for Mother&#39\;s Day only\, then it will be on a first come\, first served basis every Sunday and also hit the </span><a href="https://www.facebook.com/AberdeenSundayMarket/" style="color: rgb(56\, 88\, 152)\; cursor: pointer\; text-decoration: none\; font-family: system-ui\, -apple-system\, BlinkMacSystemFont\, &quot\;.SFNSText-Regular&quot\;\, sans-serif\; font-size: 14px\; white-space: pre-wrap\;" target="_blank">Aberdeen Sunday Market</a><span style="caret-color: rgb(29\, 33\, 41)\; color: rgb(29\, 33\, 41)\; white-space: pre-wrap\;">! </span></span><br style="caret-color: rgb(29\, 33\, 41)\; color: rgb(29\, 33\, 41)\; font-family: system-ui\, -apple-system\, BlinkMacSystemFont\, &quot\;.SFNSText-Regular&quot\;\, sans-serif\; font-size: 14px\; white-space: pre-wrap\;" />\n&nbsp\;
LOCATION:pin Rediviva 118 E Wishkah St\, Aberdeen\, Washington 98520
UID:e.26.11988
SEQUENCE:3
DTSTAMP:20260424T133030Z
URL:https://chamber.graysharbor.org/events/details/sunday-jazz-brunch-at-rediviva-11988
END:VEVENT

END:VCALENDAR
