BEGIN:VCALENDAR
VERSION:2.0
PRODID:-//ChamberMaster//Event Calendar 2.0//EN
METHOD:PUBLISH
X-PUBLISHED-TTL:P3D
REFRESH-INTERVAL:P3D
CALSCALE:GREGORIAN
BEGIN:VEVENT
DTSTART:20130328T150000Z
DTEND:20130328T190000Z
X-MICROSOFT-CDO-ALLDAYEVENT:FALSE
SUMMARY:Supervisor Training Class - Coaching for Peak Performance (DDI)
DESCRIPTION:Vigilant is offering next-level leadership classes in Elma designed for supervisors\, managers\, team leaders\, and potential managers.  \n\n\n\n\n	Coaching for Peak Performance (DDI) helps leaders coach for success as well as for improvement. By understanding the importance of four coaching techniques learners can have more effective and efficient interactions.\n\n	\n\n	Pre-registration is required.  Please contact Phyllis French at p.french@vigilantcounsel.org or 800-733-8620 to register.
X-ALT-DESC;FMTTYPE=text/html:Vigilant is offering next-level leadership classes in Elma designed for supervisors\, managers\, team leaders\, and potential managers. &nbsp\;<br />\n<br />\n<div>\n	Coaching for Peak Performance (DDI) helps leaders coach for success as well as for improvement. By understanding the importance of four coaching techniques learners can have more effective and efficient interactions.<br />\n	<br />\n	Pre-registration is required. &nbsp\;Please contact Phyllis French at p.french@vigilantcounsel.org or 800-733-8620 to register. &nbsp\;</div>\n
LOCATION:Girard Wood Products 27 Schouweiler Tract Rd Elma\, WA 98541
UID:e.26.2630
SEQUENCE:3
DTSTAMP:20260420T081719Z
URL:https://chamber.graysharbor.org/events/details/supervisor-training-class-coaching-for-peak-performance-ddi-03-28-2013-2630
END:VEVENT

END:VCALENDAR
