BEGIN:VCALENDAR
VERSION:2.0
PRODID:-//ChamberMaster//Event Calendar 2.0//EN
METHOD:PUBLISH
X-PUBLISHED-TTL:P3D
REFRESH-INTERVAL:P3D
CALSCALE:GREGORIAN
BEGIN:VEVENT
DTSTART:20130327T200000Z
DTEND:20130328T000000Z
X-MICROSOFT-CDO-ALLDAYEVENT:FALSE
SUMMARY:Supervisor Training Class - Proactive Supervision
DESCRIPTION:Vigilant is offering a training class designed specifically for supervisors\, managers\, team leaders\, and potential supervisors in Elma.  \n\n\n\nProactive Supervision:  The first few months on the job are critical to the success of both employee and supervisor.\n\n	Too often\, new-employee orientation focuses on administrative activities\, not on the larger\, long-term aspects of the position. In this class\, we'll expose the weaknesses of the typical orientation process and help you do more than just get the new person into the payroll system. You'll learn how to help employees see their role in the company's mission clearly.  You'll also hone your documentation skills on multiple case studies. This class is a "musthave" foundation piece for frontline leaders everywhere.\n\n	\n\n	Pre-registration is required.  Please email p.french@vigilantcounsel.org or call 800-733-8620 to register.
X-ALT-DESC;FMTTYPE=text/html:Vigilant is offering a training class designed specifically for supervisors\, managers\, team leaders\, and potential supervisors in Elma. &nbsp\;<br />\n<br />\nProactive Supervision: &nbsp\;The first few months on the job are critical to the success of both employee and supervisor.\n<div>\n	Too often\, new-employee orientation focuses on administrative activities\, not on the larger\, long-term aspects of the position. In this class\, we&rsquo\;ll expose the weaknesses of the typical orientation process and help you do more than just get the new person into the payroll system. You&rsquo\;ll learn how to help employees see their role in the company&rsquo\;s mission clearly. &nbsp\;You&rsquo\;ll also hone your documentation skills on multiple case studies. This class is a &ldquo\;musthave&rdquo\; foundation piece for frontline leaders everywhere.<br />\n	<br />\n	Pre-registration is required. &nbsp\;Please email p.french@vigilantcounsel.org or call 800-733-8620 to register. &nbsp\;</div>\n
LOCATION:Girard Wood Products 27 Schouweiler Tract Rd Elma\, WA 98541
UID:e.26.2629
SEQUENCE:3
DTSTAMP:20260420T160450Z
URL:https://chamber.graysharbor.org/events/details/supervisor-training-class-proactive-supervision-03-27-2013-2629
END:VEVENT

END:VCALENDAR
