BEGIN:VCALENDAR
VERSION:2.0
PRODID:-//ChamberMaster//Event Calendar 2.0//EN
METHOD:PUBLISH
X-PUBLISHED-TTL:P3D
REFRESH-INTERVAL:P3D
CALSCALE:GREGORIAN
BEGIN:VEVENT
DTSTART:20190525T150000Z
DTEND:20190526T220000Z
X-MICROSOFT-CDO-ALLDAYEVENT:FALSE
SUMMARY:Surf's Up Car Show & Rod Run
DESCRIPTION:45 Vintage Automobiles to view and appreciate! This two day event will take place on May 25th - 26th from 8am - 3pm.
X-ALT-DESC;FMTTYPE=text/html:<span style="caret-color: rgb(128\, 128\, 128)\; font-family: arial\; font-size: 14px\;">45 Vintage Automobiles to view and appreciate! This two day event will take place on May 25th - 26th from 8am - 3pm.</span>
LOCATION:Ocean Shores Convention Center 120 W Chance A La Mer Ave Ocean Shores\, WA 98569
UID:e.26.11964
SEQUENCE:3
DTSTAMP:20260424T133041Z
URL:https://chamber.graysharbor.org/events/details/surf-s-up-car-show-rod-run-05-25-2019-11964
END:VEVENT

END:VCALENDAR
