BEGIN:VCALENDAR
VERSION:2.0
PRODID:-//ChamberMaster//Event Calendar 2.0//EN
METHOD:PUBLISH
X-PUBLISHED-TTL:P3D
REFRESH-INTERVAL:P3D
CALSCALE:GREGORIAN
BEGIN:VEVENT
DTSTART:20181216T020000Z
DTEND:20181216T040000Z
X-MICROSOFT-CDO-ALLDAYEVENT:FALSE
SUMMARY:Surfing Santa Parade
DESCRIPTION:Spread some holiday cheer at the Seabrook Surfing Santa Parade with marching bands\, floats\, vintage automobiles\, and Santa Claus. A wonderful Christmas parade lures people from all around to the sidewalks of Seabrook.\n\n\n\nSet for Saturday\, December 15\, the annual Surfing Santa Parade will start at 6pm at Meriweather Square and conclude at Town Hall where folks will enjoy delicious Christmas cookies and hot cocoa\, as well as get their picture taken with Santa. \n\n\n\nAs the sights\, sounds and smells of the holiday season fill the air\, start a new holiday tradition at Seabrook - Washington's beach town
X-ALT-DESC;FMTTYPE=text/html:<span style="caret-color: rgb(29\, 33\, 41)\; color: rgb(29\, 33\, 41)\; font-family: system-ui\, -apple-system\, BlinkMacSystemFont\, &quot\;.SFNSText-Regular&quot\;\, sans-serif\; font-size: 14px\; background-color: rgb(255\, 255\, 255)\;">Spread some holiday cheer at the Seabrook Surfing Santa Parade with marching bands\, floats\, vintage automobiles\, and Santa Claus. A wonderful Christmas parade lures people from all around to the sidewalks of Seabrook.</span><br style="caret-color: rgb(29\, 33\, 41)\; color: rgb(29\, 33\, 41)\; font-family: system-ui\, -apple-system\, BlinkMacSystemFont\, &quot\;.SFNSText-Regular&quot\;\, sans-serif\; font-size: 14px\;" />\n<br style="caret-color: rgb(29\, 33\, 41)\; color: rgb(29\, 33\, 41)\; font-family: system-ui\, -apple-system\, BlinkMacSystemFont\, &quot\;.SFNSText-Regular&quot\;\, sans-serif\; font-size: 14px\;" />\n<span style="caret-color: rgb(29\, 33\, 41)\; color: rgb(29\, 33\, 41)\; font-family: system-ui\, -apple-system\, BlinkMacSystemFont\, &quot\;.SFNSText-Regular&quot\;\, sans-serif\; font-size: 14px\; background-color: rgb(255\, 255\, 255)\;">Set for Saturday\, December 15\, the annual Surfing Santa Parade will start at 6pm at Meriweather Square and conclude at Town Hall where folks will enjoy delicious Christmas cookies and hot cocoa\, as well as get their picture taken with Santa.&nbsp\;</span><br style="caret-color: rgb(29\, 33\, 41)\; color: rgb(29\, 33\, 41)\; font-family: system-ui\, -apple-system\, BlinkMacSystemFont\, &quot\;.SFNSText-Regular&quot\;\, sans-serif\; font-size: 14px\;" />\n<br style="caret-color: rgb(29\, 33\, 41)\; color: rgb(29\, 33\, 41)\; font-family: system-ui\, -apple-system\, BlinkMacSystemFont\, &quot\;.SFNSText-Regular&quot\;\, sans-serif\; font-size: 14px\;" />\n<span style="caret-color: rgb(29\, 33\, 41)\; color: rgb(29\, 33\, 41)\; font-family: system-ui\, -apple-system\, BlinkMacSystemFont\, &quot\;.SFNSText-Regular&quot\;\, sans-serif\; font-size: 14px\; background-color: rgb(255\, 255\, 255)\;">As the sights\, sounds and smells of the holiday season fill the air\, start a new holiday tradition at Seabrook - Washington&rsquo\;s beach town</span>
LOCATION:Seabrook Pacific Beach\, WA
UID:e.26.11364
SEQUENCE:3
DTSTAMP:20260424T210515Z
URL:https://chamber.graysharbor.org/events/details/surfing-santa-parade-11364
END:VEVENT

END:VCALENDAR
