BEGIN:VCALENDAR
VERSION:2.0
PRODID:-//ChamberMaster//Event Calendar 2.0//EN
METHOD:PUBLISH
X-PUBLISHED-TTL:P3D
REFRESH-INTERVAL:P3D
CALSCALE:GREGORIAN
BEGIN:VEVENT
DTSTART;VALUE=DATE:20180804
DTEND;VALUE=DATE:20180806
TRANSP:TRANSPARENT
X-MICROSOFT-CDO-ALLDAYEVENT:TRUE
SUMMARY:SusieMarie's 12th Annual Lemonade Stand
DESCRIPTION:Donations payable to: \n\nCVFD PO Box 701\, Cosmopolis\, WA 98537\n\nSince she was 4yrs old SusanMarie has held a lemonade stand with all donations going to our Cosmopolis Volunteer Fire Department . SusieMarie saves all her money from chores\, gifts\, anything she earns throughout the year to purchase supplies needed for her stand with so many of our local businesses donating other supplies to help make her stand such a success. \n\n\n\nThe popularity and support of her stand is overwhelming and is looked forward to each year. SusieMarie "gives" all the lemonade away and only asks for a small donation in return. The lemonade is FREE regardless\, donation or not!! FRESH Strawberry Lemonade (secret recipe) with whip cream! YUM-O!!\n\n\n\nHer first Lemonade stand resulted in $13.00. Last year the stand donated $4\,124.56 which put it over $20\,000 donated in 11 years! AMAZING!! Please\, if you can\, send a donation. SusieMarie has received donations from as far away as Australia\, Canada\, England and Hawaii thanks\, in part\, to our FaceBook friends. \n\n\n\nPlease help if you can...No matter how far you live...or how much you can give...All donations accepted!
X-ALT-DESC;FMTTYPE=text/html:<span style="color: rgb(29\, 33\, 41)\; font-family: Helvetica\, Arial\, sans-serif\; font-size: 14px\; background-color: rgb(255\, 255\, 255)\;">Donations payable to:&nbsp\;</span><br style="color: rgb(29\, 33\, 41)\; font-family: Helvetica\, Arial\, sans-serif\; font-size: 14px\; background-color: rgb(255\, 255\, 255)\;" />\n<span style="color: rgb(29\, 33\, 41)\; font-family: Helvetica\, Arial\, sans-serif\; font-size: 14px\; background-color: rgb(255\, 255\, 255)\;">CVFD PO Box 701\, Cosmopolis\, WA 98537</span><br style="color: rgb(29\, 33\, 41)\; font-family: Helvetica\, Arial\, sans-serif\; font-size: 14px\; background-color: rgb(255\, 255\, 255)\;" />\n<span style="color: rgb(29\, 33\, 41)\; font-family: Helvetica\, Arial\, sans-serif\; font-size: 14px\; background-color: rgb(255\, 255\, 255)\;">Since she was 4yrs old SusanMarie has held a lemonade stand with all donations going to our Cosmopolis Volunteer Fire Department . SusieMarie saves all her money from chores\, gifts\, anything she earns throughout the year to purchase supplies needed for her stand with so many of our local businesses donating other supplies to help make her stand such a success.&nbsp\;</span><br style="color: rgb(29\, 33\, 41)\; font-family: Helvetica\, Arial\, sans-serif\; font-size: 14px\; background-color: rgb(255\, 255\, 255)\;" />\n<br style="color: rgb(29\, 33\, 41)\; font-family: Helvetica\, Arial\, sans-serif\; font-size: 14px\; background-color: rgb(255\, 255\, 255)\;" />\n<span style="color: rgb(29\, 33\, 41)\; font-family: Helvetica\, Arial\, sans-serif\; font-size: 14px\; background-color: rgb(255\, 255\, 255)\;">The popularity and support of her stand is overwhelming and is looked forward to each year. SusieMarie &quot\;gives&quot\; all the lemonade away and only asks for a small donation in return. The lemonade is FREE regardless\, donation or not!! FRESH Strawberry Lemonade (secret recipe) with whip cream! YUM-O!!</span><br style="color: rgb(29\, 33\, 41)\; font-family: Helvetica\, Arial\, sans-serif\; font-size: 14px\; background-color: rgb(255\, 255\, 255)\;" />\n<br style="color: rgb(29\, 33\, 41)\; font-family: Helvetica\, Arial\, sans-serif\; font-size: 14px\; background-color: rgb(255\, 255\, 255)\;" />\n<span style="color: rgb(29\, 33\, 41)\; font-family: Helvetica\, Arial\, sans-serif\; font-size: 14px\; background-color: rgb(255\, 255\, 255)\;">Her first Lemonade stand resulted in $13.00. Last year the stand donated $4\,124.56 which put it over $20\,000 donated in 11 years! AMAZING!! Please\, if you can\, send a donation. SusieMarie has received donations from as far away as Australia\, Canada\, England and Hawaii thanks\, in part\, to our FaceBook friends.&nbsp\;</span><br style="color: rgb(29\, 33\, 41)\; font-family: Helvetica\, Arial\, sans-serif\; font-size: 14px\; background-color: rgb(255\, 255\, 255)\;" />\n<br style="color: rgb(29\, 33\, 41)\; font-family: Helvetica\, Arial\, sans-serif\; font-size: 14px\; background-color: rgb(255\, 255\, 255)\;" />\n<span style="color: rgb(29\, 33\, 41)\; font-family: Helvetica\, Arial\, sans-serif\; font-size: 14px\; background-color: rgb(255\, 255\, 255)\;">Please help if you can...No matter how far you live...or how much you can give...All donations accepted!</span>
LOCATION:pin Corner of 1st St & C St. - Cosmopolis\, Wa
UID:e.26.11160
SEQUENCE:3
DTSTAMP:20260425T034542Z
URL:https://chamber.graysharbor.org/events/details/susiemarie-s-12th-annual-lemonade-stand-11160
END:VEVENT

END:VCALENDAR
