BEGIN:VCALENDAR
VERSION:2.0
PRODID:-//ChamberMaster//Event Calendar 2.0//EN
METHOD:PUBLISH
X-PUBLISHED-TTL:P3D
REFRESH-INTERVAL:P3D
CALSCALE:GREGORIAN
BEGIN:VEVENT
DTSTART;VALUE=DATE:20171202
DTEND;VALUE=DATE:20171204
TRANSP:TRANSPARENT
X-MICROSOFT-CDO-ALLDAYEVENT:TRUE
SUMMARY:Swap Meet in the Pavilion
DESCRIPTION:This indoor swap meet takes place at the Grays Harbor Fairgrounds where you can browse through bargains!
X-ALT-DESC;FMTTYPE=text/html:This indoor swap meet takes place at the Grays Harbor Fairgrounds where you can browse through bargains!
LOCATION:Grays Harbor Fairgrounds Elma\, WA
UID:e.26.7649
SEQUENCE:3
DTSTAMP:20260425T163923Z
URL:https://chamber.graysharbor.org/events/details/swap-meet-in-the-pavilion-7649
END:VEVENT

END:VCALENDAR
