BEGIN:VCALENDAR
VERSION:2.0
PRODID:-//ChamberMaster//Event Calendar 2.0//EN
METHOD:PUBLISH
X-PUBLISHED-TTL:P3D
REFRESH-INTERVAL:P3D
CALSCALE:GREGORIAN
BEGIN:VEVENT
DTSTART;VALUE=DATE:20171104
DTEND;VALUE=DATE:20171106
TRANSP:TRANSPARENT
X-MICROSOFT-CDO-ALLDAYEVENT:TRUE
SUMMARY:Swap Meet in the Pavilion
DESCRIPTION:This is an indoor swap meet where you can browse through bargains at your leisure.
X-ALT-DESC;FMTTYPE=text/html:This is an indoor swap meet&nbsp\;where you can browse through bargains at your leisure.&nbsp\;&nbsp\;&nbsp\;&nbsp\;&nbsp\;&nbsp\;&nbsp\;
LOCATION:Grays Harbor Fairgrounds Elma\, WA
UID:e.26.7650
SEQUENCE:3
DTSTAMP:20260425T181317Z
URL:https://chamber.graysharbor.org/events/details/swap-meet-in-the-pavilion-7650
END:VEVENT

END:VCALENDAR
