BEGIN:VCALENDAR
VERSION:2.0
PRODID:-//ChamberMaster//Event Calendar 2.0//EN
METHOD:PUBLISH
X-PUBLISHED-TTL:P3D
REFRESH-INTERVAL:P3D
CALSCALE:GREGORIAN
BEGIN:VEVENT
DTSTART:20190223T220000Z
DTEND:20190224T010000Z
X-MICROSOFT-CDO-ALLDAYEVENT:FALSE
SUMMARY:Sweet Brook
DESCRIPTION:Do you love chocolate? \n\nThen you shouldn't miss Sweet Brook\, the day Seabrook turns decadent and super sweet. \n\nTickle your tastebuds at this exclusive event. VIP chocolatier David Klugh will be pairing gourmet chocolate\, wine and education. And select Seabrook merchants will serve chocolate-themed desserts paired with wine and live music. \n\nSweet Brook is one day you don't want to miss!
X-ALT-DESC;FMTTYPE=text/html:<p style="font-size: 16px\; box-sizing: border-box\; margin: 0px 0px 1.25em\; padding: 0px\; direction: ltr\; font-family: myriad-pro\, sans-serif\; line-height: 1.45\; text-rendering: optimizeLegibility\; letter-spacing: 0.47999998927116394px\; caret-color: rgb(84\, 102\, 108)\; color: rgb(84\, 102\, 108)\;">Do you love chocolate?&nbsp\;</p>\n\n<p style="font-size: 16px\; box-sizing: border-box\; margin: 0px 0px 1.25em\; padding: 0px\; direction: ltr\; font-family: myriad-pro\, sans-serif\; line-height: 1.45\; text-rendering: optimizeLegibility\; letter-spacing: 0.47999998927116394px\; caret-color: rgb(84\, 102\, 108)\; color: rgb(84\, 102\, 108)\;">Then you shouldn&rsquo\;t miss Sweet Brook\, the day Seabrook turns decadent and super sweet.&nbsp\;</p>\n\n<p style="font-size: 16px\; box-sizing: border-box\; margin: 0px 0px 1.25em\; padding: 0px\; direction: ltr\; font-family: myriad-pro\, sans-serif\; line-height: 1.45\; text-rendering: optimizeLegibility\; letter-spacing: 0.47999998927116394px\; caret-color: rgb(84\, 102\, 108)\; color: rgb(84\, 102\, 108)\;">Tickle your tastebuds at this exclusive event. VIP chocolatier David Klugh will be pairing gourmet chocolate\, wine and education. And select Seabrook merchants will serve chocolate-themed desserts paired with wine and live music.&nbsp\;</p>\n\n<p style="font-size: 16px\; box-sizing: border-box\; margin: 0px 0px 1.25em\; padding: 0px\; direction: ltr\; font-family: myriad-pro\, sans-serif\; line-height: 1.45\; text-rendering: optimizeLegibility\; letter-spacing: 0.47999998927116394px\; caret-color: rgb(84\, 102\, 108)\; color: rgb(84\, 102\, 108)\;">Sweet Brook is one day you don&rsquo\;t want to miss!</p>\n
LOCATION:Seabrook Pacific Beach\, WA
UID:e.26.11624
SEQUENCE:3
DTSTAMP:20260424T194145Z
URL:https://chamber.graysharbor.org/events/details/sweet-brook-11624
END:VEVENT

END:VCALENDAR
