BEGIN:VCALENDAR
VERSION:2.0
PRODID:-//ChamberMaster//Event Calendar 2.0//EN
METHOD:PUBLISH
X-PUBLISHED-TTL:P3D
REFRESH-INTERVAL:P3D
CALSCALE:GREGORIAN
BEGIN:VEVENT
DTSTART:20200208T180000Z
DTEND:20200210T010000Z
X-MICROSOFT-CDO-ALLDAYEVENT:FALSE
SUMMARY:Sweethearts Market
DESCRIPTION:This is an event featuring both handcrafted and direct sales such as paparazzi and Scentsy. Come and get your Valentine's Day presents and great spring decor! For vendor space please contact Chad at chadsearles@hotmai
X-ALT-DESC;FMTTYPE=text/html:<span style="font-family:arial\;"><span style="font-size:14px\;"><span style="caret-color: rgb(0\, 0\, 0)\; color: rgb(0\, 0\, 0)\;">This is an event featuring both handcrafted and direct sales such as paparazzi and Scentsy. Come and get your Valentine&rsquo\;s Day presents and great spring decor! For vendor space please contact Chad at chadsearles@hotmai</span></span></span>
LOCATION:Grays Harbor Fairgrounds Elma\, WA
UID:e.26.12357
SEQUENCE:3
DTSTAMP:20260424T042107Z
URL:https://chamber.graysharbor.org/events/details/sweethearts-market-12357
END:VEVENT

END:VCALENDAR
