BEGIN:VCALENDAR
VERSION:2.0
PRODID:-//ChamberMaster//Event Calendar 2.0//EN
METHOD:PUBLISH
X-PUBLISHED-TTL:P3D
REFRESH-INTERVAL:P3D
CALSCALE:GREGORIAN
BEGIN:VEVENT
DTSTART:20190518T173000Z
DTEND:20190518T190000Z
X-MICROSOFT-CDO-ALLDAYEVENT:FALSE
SUMMARY:Syttende Mai Parade
DESCRIPTION:Don't miss the 9th Annual Seabrook Syttende Mai Parade on Saturday\, May 18\, celebrating Norwegian Constitution Day and raising money for the Dorothy Anderson Cabin Fund at the Museum of the North Beach. Meet at 10:30 at the Dorothy Anderson Cabin and march through town to the Salty Dog on Meriweather Street for ice cream for the children from The Sweet Life! Everyone is welcome\, including dogs and non-Norwegians!
X-ALT-DESC;FMTTYPE=text/html:<span style="font-size:14px\;"><span style="font-family:arial\;"><span style="caret-color: rgb(84\, 102\, 108)\; letter-spacing: 0.47999998927116394px\;">Don&#39\;t miss the 9th Annual Seabrook Syttende Mai Parade on Saturday\, May 18\, celebrating Norwegian Constitution Day and raising money for the Dorothy Anderson Cabin Fund at the Museum of the North Beach. Meet at 10:30 at the Dorothy Anderson Cabin and march through town to the Salty Dog on Meriweather Street for ice cream for the children from The Sweet Life! Everyone is welcome\, including dogs and non-Norwegians!&nbsp\;</span></span></span>
LOCATION:Seabrook Washington Pacific Beach\, WA
UID:e.26.11781
SEQUENCE:3
DTSTAMP:20260424T132628Z
URL:https://chamber.graysharbor.org/events/details/syttende-mai-parade-11781
END:VEVENT

END:VCALENDAR
