BEGIN:VCALENDAR
VERSION:2.0
PRODID:-//ChamberMaster//Event Calendar 2.0//EN
METHOD:PUBLISH
X-PUBLISHED-TTL:P3D
REFRESH-INTERVAL:P3D
CALSCALE:GREGORIAN
BEGIN:VEVENT
DTSTART:20170513T170000Z
DTEND:20170513T190000Z
X-MICROSOFT-CDO-ALLDAYEVENT:FALSE
SUMMARY:Syttende Mai Parade
DESCRIPTION:SYTTENDE MAI PARADE | 10AM | DOROTHY ANDERSON CABIN |\n\n\n\nAnnual Norwegian Independence Day Parade will begin at Dorothy Anderson Cabin and parade around town.  Traditional clothing encouraged!\n\n\n\nParade will end at Meriweather Street with an ice cream social.
X-ALT-DESC;FMTTYPE=text/html:<strong>SYTTENDE MAI PARADE | 10AM | DOROTHY ANDERSON CABIN |</strong><br />\n<br />\nAnnual Norwegian Independence Day Parade will begin at Dorothy Anderson Cabin and parade around town.&nbsp\; Traditional clothing encouraged!<br />\n<br />\nParade will end at Meriweather Street with an ice cream social.
LOCATION:DOROTHY ANDERSON CABIN Seabrook\, WA
UID:e.26.6572
SEQUENCE:3
DTSTAMP:20260426T032735Z
URL:https://chamber.graysharbor.org/events/details/syttende-mai-parade-6572
END:VEVENT

END:VCALENDAR
