BEGIN:VCALENDAR
VERSION:2.0
PRODID:-//ChamberMaster//Event Calendar 2.0//EN
METHOD:PUBLISH
X-PUBLISHED-TTL:P3D
REFRESH-INTERVAL:P3D
CALSCALE:GREGORIAN
BEGIN:VEVENT
DTSTART:20190817T170000Z
DTEND:20190817T220000Z
X-MICROSOFT-CDO-ALLDAYEVENT:FALSE
SUMMARY:Take a Hake Against ALS
DESCRIPTION:Take a Hake Against ALS!\n\nThis 2nd annual event will take place on August 17th at Highland Golf Course in Cosmopolis. This event is proudly sponsored by the ALS Assoc. Evergreen Chapter and Timberland Bank.
X-ALT-DESC;FMTTYPE=text/html:<strong>Take a Hake Against ALS!</strong><br />\nThis 2nd annual event will take place on August 17th at Highland Golf Course in Cosmopolis. This event is proudly sponsored by the ALS Assoc. Evergreen Chapter and Timberland Bank.&nbsp\;
LOCATION:Highland Golf Course 2200 1st St. Cosmopolis\, WA
UID:e.26.12166
SEQUENCE:3
DTSTAMP:20260424T090046Z
URL:https://chamber.graysharbor.org/events/details/take-a-hake-against-als-12166
END:VEVENT

END:VCALENDAR
