BEGIN:VCALENDAR
VERSION:2.0
PRODID:-//ChamberMaster//Event Calendar 2.0//EN
METHOD:PUBLISH
X-PUBLISHED-TTL:P3D
REFRESH-INTERVAL:P3D
CALSCALE:GREGORIAN
BEGIN:VEVENT
DTSTART:20190208T013000Z
DTEND:20190208T030000Z
X-MICROSOFT-CDO-ALLDAYEVENT:FALSE
SUMMARY:Tax Update Seminar
DESCRIPTION:Barene DenAdel\, CPA is offering a free Tax Update Seminar on February 7 that will offer highly beneficial information focusing on the recently passed Tax Cuts and Jobs Act and its direct effects on individuals and small businesses.\n\nSpeakers at the event include both Erin DenAdel and Noel Gill\, Staff Accountant at Barene DenAdel.
X-ALT-DESC;FMTTYPE=text/html:<span style="caret-color: rgb(34\, 34\, 34)\; color: rgb(34\, 34\, 34)\; font-family: Verdana\, Geneva\, sans-serif\; font-size: 15px\; background-color: rgb(255\, 255\, 255)\;">Barene DenAdel\, CPA is offering a free Tax Update Seminar on February 7 that will offer highly beneficial information focusing on the recently passed Tax Cuts and Jobs Act and its direct effects on individuals and small businesses.</span><br />\n<span style="caret-color: rgb(34\, 34\, 34)\; color: rgb(34\, 34\, 34)\; font-family: Verdana\, Geneva\, sans-serif\; font-size: 15px\; background-color: rgb(255\, 255\, 255)\;">Speakers at the event include both Erin DenAdel and Noel Gill\, Staff Accountant at Barene DenAdel.</span>
LOCATION:Rotary Log Pavilion 1401 Sargent Blvd. Aberdeen\, WA
UID:e.26.11713
SEQUENCE:3
DTSTAMP:20260424T181408Z
URL:https://chamber.graysharbor.org/events/details/tax-update-seminar-11713
END:VEVENT

END:VCALENDAR
