BEGIN:VCALENDAR
VERSION:2.0
PRODID:-//ChamberMaster//Event Calendar 2.0//EN
METHOD:PUBLISH
X-PUBLISHED-TTL:P3D
REFRESH-INTERVAL:P3D
CALSCALE:GREGORIAN
BEGIN:VEVENT
DTSTART:20200222T200000Z
DTEND:20200222T210000Z
X-MICROSOFT-CDO-ALLDAYEVENT:FALSE
SUMMARY:Tea Party with Ericka Corban
DESCRIPTION:We are so excited to announce we will be throwing a tea party on February 22\, 2020 with a special private concert from Ericka Corban. Local singer/songwriter Ericka has been on the Voice and has played countless shows around the harbor. She even published two children's books one being Tippy the Owl and the other being Hop the Bunny. Tickets are $15.00 per person and include admission\, tea\, finger foods\, and dessert. You must reserve and confirm your ticket on our Facebook page. We have limited seats/tickets available and not all have a front row view. Be sure to get your tickets before we sell out. You can bring cash into the juice bar or you can pay with a card at the juice bar. We will post a menu with our selection of fine teas ahead of time on our Facebook page.
X-ALT-DESC;FMTTYPE=text/html:<span style="color:rgb(29\, 33\, 41)\; font-family:helvetica\,arial\,sans-serif\; font-size:14px">We are so excited to announce we will be throwing a tea party on February 22\, 2020 with a special private concert from Ericka Corban. Local singer/songwriter Ericka has been on the Voice and has played countless shows around the harbor. She even published two children&#39\;s books one being Tippy the Owl and the other being Hop the Bunny. Tickets are $15.00 per person and include admission\, tea\, finger foods\, and dessert. You must reserve and confirm your ticket on our Facebook page. We have limited seats/tickets available and not all have a front row view. Be sure to get your tickets before we sell out. You can bring cash into the juice bar or you can pay with a card at the juice bar. We will post a menu with our selection of fine teas ahead of time on our Facebook page.</span>
LOCATION:Urban Juice Factory\, Inc. 214 S Main St\, Montesano\, WA 98563.
UID:e.26.12366
SEQUENCE:3
DTSTAMP:20260424T041918Z
URL:https://chamber.graysharbor.org/events/details/tea-party-with-ericka-corban-12366
END:VEVENT

END:VCALENDAR
