BEGIN:VCALENDAR
VERSION:2.0
PRODID:-//ChamberMaster//Event Calendar 2.0//EN
METHOD:PUBLISH
X-PUBLISHED-TTL:P3D
REFRESH-INTERVAL:P3D
CALSCALE:GREGORIAN
BEGIN:VEVENT
DTSTART;VALUE=DATE:20170908
DTEND;VALUE=DATE:20170909
TRANSP:TRANSPARENT
X-MICROSOFT-CDO-ALLDAYEVENT:TRUE
SUMMARY:Tee it Up for Tots
DESCRIPTION:Hit the links for two great causes! This incredibly fun golf tournament includes: 18 holes of golf\, team pictures\, goody bags\, lunch\, awards & dinner! The 12th Annual Tee it Up for Tots Golf Tournament benefits The United Way of Grays Harbor and The Grays Harbor Community Hospital Foundation.
X-ALT-DESC;FMTTYPE=text/html:Hit the links for two great causes! This incredibly fun golf tournament includes: 18 holes of golf\, team pictures\, goody bags\, lunch\, awards &amp\; dinner! The 12th Annual Tee it Up for Tots Golf Tournament benefits The United Way of Grays Harbor and The Grays Harbor Community Hospital Foundation.
LOCATION:Ocean Shores Golf Course 500 Canal Drive NE Ocean Shores\, WA 98569
UID:e.26.8104
SEQUENCE:3
DTSTAMP:20260425T213725Z
URL:https://chamber.graysharbor.org/events/details/tee-it-up-for-tots-8104
END:VEVENT

END:VCALENDAR
