BEGIN:VCALENDAR
VERSION:2.0
PRODID:-//ChamberMaster//Event Calendar 2.0//EN
METHOD:PUBLISH
X-PUBLISHED-TTL:P3D
REFRESH-INTERVAL:P3D
CALSCALE:GREGORIAN
BEGIN:VEVENT
DTSTART:20191128T040000Z
DTEND:20191128T060000Z
X-MICROSOFT-CDO-ALLDAYEVENT:FALSE
SUMMARY:Thanksgiving Eve Bash
DESCRIPTION:You won't wanna miss Pine Tree Bar & Grill's annual Thanksgiving eve bash this year!  LEON   is coming home! Music starts at 8pm!
X-ALT-DESC;FMTTYPE=text/html:<span style="caret-color: rgb(29\, 33\, 41)\; color: rgb(29\, 33\, 41)\; font-family: system-ui\, -apple-system\, BlinkMacSystemFont\, &quot\;.SFNSText-Regular&quot\;\, sans-serif\; font-size: 14px\; white-space: pre-wrap\;">You won&rsquo\;t wanna miss Pine Tree Bar &amp\; Grill&#39\;s annual Thanksgiving eve bash this year! &#128165\;LEON &#128165\; is coming home! Music starts at 8pm! </span>
LOCATION:pin Pine Tree Bar & Grill 101 W Ocean Ave\, Westport\, Washington 98595
UID:e.26.12292
SEQUENCE:3
DTSTAMP:20260424T041917Z
URL:https://chamber.graysharbor.org/events/details/thanksgiving-eve-bash-12292
END:VEVENT

END:VCALENDAR
