BEGIN:VCALENDAR
VERSION:2.0
PRODID:-//ChamberMaster//Event Calendar 2.0//EN
METHOD:PUBLISH
X-PUBLISHED-TTL:P3D
REFRESH-INTERVAL:P3D
CALSCALE:GREGORIAN
BEGIN:VEVENT
DTSTART;VALUE=DATE:20190628
DTEND;VALUE=DATE:20190630
TRANSP:TRANSPARENT
X-MICROSOFT-CDO-ALLDAYEVENT:TRUE
SUMMARY:That Irish Guy
DESCRIPTION:Born in the Irish town of Omagh\, Co. Tyrone\, That Irish Guy\, has been steeped in folk music from an early age and now brings his music to the Pacific NW.
X-ALT-DESC;FMTTYPE=text/html:<span style="caret-color: rgb(29\, 33\, 41)\; color: rgb(29\, 33\, 41)\; font-family: system-ui\, -apple-system\, BlinkMacSystemFont\, &quot\;.SFNSText-Regular&quot\;\, sans-serif\; font-size: 14px\; white-space: pre-wrap\;">Born in the Irish town of Omagh\, Co. Tyrone\, That Irish Guy\, has been steeped in folk music from an early age and now brings his music to the Pacific NW.</span>
LOCATION:pin Galway Bay Irish Restaurant & Pub 880 Point Brown Ave NE\, Ocean Shores\, Washington 98569
UID:e.26.11848
SEQUENCE:3
DTSTAMP:20260424T114845Z
URL:https://chamber.graysharbor.org/events/details/that-irish-guy-11848
END:VEVENT

END:VCALENDAR
