BEGIN:VCALENDAR
VERSION:2.0
PRODID:-//ChamberMaster//Event Calendar 2.0//EN
METHOD:PUBLISH
X-PUBLISHED-TTL:P3D
REFRESH-INTERVAL:P3D
CALSCALE:GREGORIAN
BEGIN:VEVENT
DTSTART;VALUE=DATE:20251121
DTEND;VALUE=DATE:20251123
TRANSP:TRANSPARENT
X-MICROSOFT-CDO-ALLDAYEVENT:TRUE
SUMMARY:That Irish Guy at Galway Bay Irish Pub & Restaurant
DESCRIPTION:Born in the Irish town of Omagh\, Co. Tyrone\, That Irish Guy\, has been steeped in folk music from an early age and now brings his music to the Pacific NW.
X-ALT-DESC;FMTTYPE=text/html:<div class="xdj266r x14z9mp xat24cr x1lziwak x1vvkbs" style="overflow-wrap: break-word\; margin-inline: 0px\; margin-bottom: 0px\; margin-top: 0px\; font-family: &quot\;Segoe UI Historic&quot\;\, &quot\;Segoe UI&quot\;\, Helvetica\, Arial\, sans-serif\; color: rgb(8\, 8\, 9)\; font-size: 15px\; background-color: rgb(255\, 255\, 255)\;">Born in the Irish town of Omagh\, Co. Tyrone\, That Irish Guy\, has been steeped in folk music from an early age and now brings his music to the Pacific NW.</div>\n
LOCATION:880 Point Brown Ave NE Ocean Shores\, WA
UID:e.26.15303
SEQUENCE:3
DTSTAMP:20260423T234037Z
URL:https://chamber.graysharbor.org/events/details/that-irish-guy-at-galway-bay-irish-pub-restaurant-15303
END:VEVENT

END:VCALENDAR
