BEGIN:VCALENDAR
VERSION:2.0
PRODID:-//ChamberMaster//Event Calendar 2.0//EN
METHOD:PUBLISH
X-PUBLISHED-TTL:P3D
REFRESH-INTERVAL:P3D
CALSCALE:GREGORIAN
BEGIN:VEVENT
DTSTART:20191129T153000Z
DTEND:20191130T010000Z
X-MICROSOFT-CDO-ALLDAYEVENT:FALSE
SUMMARY:The Day After Thanksgiving Sale!
DESCRIPTION:Start the holiday season with the Englund Marine Day After Thanksgiving Sale! Shop up to 15% off on huge selection of popular clothing\, boots and rain gear brands like Grundens\, Xtratuf\, STLHD\, Stormr and more for One Day Only! \n\n\n\nLearn more here --  http://bit.ly/EMIS_dats
X-ALT-DESC;FMTTYPE=text/html:<span style="caret-color: rgb(29\, 33\, 41)\; color: rgb(29\, 33\, 41)\; font-family: system-ui\, -apple-system\, BlinkMacSystemFont\, &quot\;.SFNSText-Regular&quot\;\, sans-serif\; font-size: 14px\; white-space: pre-wrap\;">Start the holiday season with the Englund Marine Day After Thanksgiving Sale! Shop up to 15% off on huge selection of popular clothing\, boots and rain gear brands like Grundens\, Xtratuf\, STLHD\, Stormr and more for <strong>One Day Only! </strong></span><br style="caret-color: rgb(29\, 33\, 41)\; color: rgb(29\, 33\, 41)\; font-family: system-ui\, -apple-system\, BlinkMacSystemFont\, &quot\;.SFNSText-Regular&quot\;\, sans-serif\; font-size: 14px\; white-space: pre-wrap\;" />\n<br style="caret-color: rgb(29\, 33\, 41)\; color: rgb(29\, 33\, 41)\; font-family: system-ui\, -apple-system\, BlinkMacSystemFont\, &quot\;.SFNSText-Regular&quot\;\, sans-serif\; font-size: 14px\; white-space: pre-wrap\;" />\n<span style="caret-color: rgb(29\, 33\, 41)\; color: rgb(29\, 33\, 41)\; font-family: system-ui\, -apple-system\, BlinkMacSystemFont\, &quot\;.SFNSText-Regular&quot\;\, sans-serif\; font-size: 14px\; white-space: pre-wrap\;">Learn more here --&gt\; </span><a data-lynx-mode="hover" data-lynx-uri="https://l.facebook.com/l.php?u=https%3A%2F%2Fbit.ly%2FEMIS_dats%3Ffbclid%3DIwAR2WUyuEkVkTSWCUBoBLIKG11oeM6Cmvamzbu0e83INEa5RoUBIl5MBpu2Y&amp\;h=AT0LeCTOLG1K9UHb2rWwHGFyBLRTiOtg5t5GOXkDXkSyXAGpF3w4cmhT5l42RlzltwRmJ5izA-84aI5wO2c5k20iWZpbOWP_PtI8q08Rjb4Yn8sJzzsLcAeBKAqAXHuA3c-osw2FYA" href="https://bit.ly/EMIS_dats?fbclid=IwAR2WUyuEkVkTSWCUBoBLIKG11oeM6Cmvamzbu0e83INEa5RoUBIl5MBpu2Y" rel="nofollow noopener" style="color: rgb(56\, 88\, 152)\; cursor: pointer\; text-decoration: none\; font-family: system-ui\, -apple-system\, BlinkMacSystemFont\, &quot\;.SFNSText-Regular&quot\;\, sans-serif\; font-size: 14px\; white-space: pre-wrap\;" target="_blank">http://bit.ly/EMIS_dats</a>
LOCATION:101 W. Wilson Ave Westport\, WA
UID:e.26.12291
SEQUENCE:3
DTSTAMP:20260424T042158Z
URL:https://chamber.graysharbor.org/events/details/the-day-after-thanksgiving-sale-12291
END:VEVENT

END:VCALENDAR
