BEGIN:VCALENDAR
VERSION:2.0
PRODID:-//ChamberMaster//Event Calendar 2.0//EN
METHOD:PUBLISH
X-PUBLISHED-TTL:P3D
REFRESH-INTERVAL:P3D
CALSCALE:GREGORIAN
BEGIN:VEVENT
DTSTART:20220522T023000Z
DTEND:20220522T050000Z
X-MICROSOFT-CDO-ALLDAYEVENT:FALSE
SUMMARY:The Goonies at The 7th Street Theatre
DESCRIPTION:Doors open at 7:00 p.m.\n\nThe Goonies will begin at 7:30 p.m.\n\nTickets are $6 - all ages\n\nMikey and his friends have always wanted to go on an adventure. One night they are all in Mikey's attic and Mikey stumbles across an old map. Mikey has always wanted to know if One-eyed Willy ever was a real person and now he might.\n\nThey set off and later realize that they have to go through the evil Mama Fratelli's restaurant to get to a secret passage to the caves. As they try to get into the caves Mama Fratelli catches Chunk and he is left behind. He then meets Sloth one of Mama Fratelli's sons with a messed up face. He befriends Sloth. Meanwhile Mama Fratelli and her sons are trying to get to the treasure too.\n\nWill the kids make it there before Mama Fratelli does? Will Chuck ever get out of her basement?\n\nStarring Sean Astin\, Josh Brolin\, Jeff Cohen\, and Corey Feldman.\n\nRated PG
X-ALT-DESC;FMTTYPE=text/html:<div class="kvgmc6g5 cxmmr5t8 oygrvhab hcukyx3x c1et5uql" style="word-wrap: break-word\; margin: 0px\; font-family: system-ui\, -apple-system\, BlinkMacSystemFont\, &quot\;.SFNSText-Regular&quot\;\, sans-serif\; caret-color: rgb(5\, 5\, 5)\; color: rgb(5\, 5\, 5)\; font-size: 15px\;"><span style="font-family:arial\;">Doors open at 7:00 p.m.<br />\nThe Goonies will begin at 7:30 p.m.<br />\nTickets are $6 - all ages</span></div>\n\n<div class="cxmmr5t8 oygrvhab hcukyx3x c1et5uql o9v6fnle" style="word-wrap: break-word\; margin: 0.5em 0px 0px\; font-family: system-ui\, -apple-system\, BlinkMacSystemFont\, &quot\;.SFNSText-Regular&quot\;\, sans-serif\; caret-color: rgb(5\, 5\, 5)\; color: rgb(5\, 5\, 5)\; font-size: 15px\;"><span style="font-family:arial\;">Mikey and his friends have always wanted to go on an adventure. One night they are all in Mikey&#39\;s attic and Mikey stumbles across an old map. Mikey has always wanted to know if One-eyed Willy ever was a real person and now he might.</span></div>\n\n<div class="cxmmr5t8 oygrvhab hcukyx3x c1et5uql o9v6fnle" style="word-wrap: break-word\; margin: 0.5em 0px 0px\; font-family: system-ui\, -apple-system\, BlinkMacSystemFont\, &quot\;.SFNSText-Regular&quot\;\, sans-serif\; caret-color: rgb(5\, 5\, 5)\; color: rgb(5\, 5\, 5)\; font-size: 15px\;"><span style="font-family:arial\;">They set off and later realize that they have to go through the evil Mama Fratelli&#39\;s restaurant to get to a secret passage to the caves. As they try to get into the caves Mama Fratelli catches Chunk and he is left behind. He then meets Sloth one of Mama Fratelli&#39\;s sons with a messed up face. He befriends Sloth. Meanwhile Mama Fratelli and her sons are trying to get to the treasure too.</span></div>\n\n<div class="cxmmr5t8 oygrvhab hcukyx3x c1et5uql o9v6fnle" style="word-wrap: break-word\; margin: 0.5em 0px 0px\; font-family: system-ui\, -apple-system\, BlinkMacSystemFont\, &quot\;.SFNSText-Regular&quot\;\, sans-serif\; caret-color: rgb(5\, 5\, 5)\; color: rgb(5\, 5\, 5)\; font-size: 15px\;"><span style="font-family:arial\;">Will the kids make it there before Mama Fratelli does? Will Chuck ever get out of her basement?</span></div>\n\n<div class="cxmmr5t8 oygrvhab hcukyx3x c1et5uql o9v6fnle" style="word-wrap: break-word\; margin: 0.5em 0px 0px\; font-family: system-ui\, -apple-system\, BlinkMacSystemFont\, &quot\;.SFNSText-Regular&quot\;\, sans-serif\; caret-color: rgb(5\, 5\, 5)\; color: rgb(5\, 5\, 5)\; font-size: 15px\;"><span style="font-family:arial\;">Starring Sean Astin\, Josh Brolin\, Jeff Cohen\, and Corey Feldman.</span></div>\n\n<div class="cxmmr5t8 oygrvhab hcukyx3x c1et5uql o9v6fnle" style="word-wrap: break-word\; margin: 0.5em 0px 0px\; font-family: system-ui\, -apple-system\, BlinkMacSystemFont\, &quot\;.SFNSText-Regular&quot\;\, sans-serif\; caret-color: rgb(5\, 5\, 5)\; color: rgb(5\, 5\, 5)\; font-size: 15px\;"><span style="font-family:arial\;">Rated PG</span></div>\n
LOCATION:7th Street Theatre Hoquiam\, WA
UID:e.26.13619
SEQUENCE:3
DTSTAMP:20260422T024420Z
URL:https://chamber.graysharbor.org/events/details/the-goonies-at-the-7th-street-theatre-13619
END:VEVENT

END:VCALENDAR
