BEGIN:VCALENDAR
VERSION:2.0
PRODID:-//ChamberMaster//Event Calendar 2.0//EN
METHOD:PUBLISH
X-PUBLISHED-TTL:P3D
REFRESH-INTERVAL:P3D
CALSCALE:GREGORIAN
BEGIN:VEVENT
DTSTART:20171021T180000Z
DTEND:20171022T000000Z
X-MICROSOFT-CDO-ALLDAYEVENT:FALSE
SUMMARY:The Great Pumpkin Carving Weekend
DESCRIPTION:2ND ANNUAL GREAT PUMPKIN WEEKEND & CARVING COMPETITION | OCT 21 | 11AM- 5PM |\n\n\n\nHEAD TO THE BARN IN THE FARM DISTRICT!\n\n\n\n11AM- Watch 3 professional carvers- Eric Hawley\, Wade Lapp\, and Jonathan Barwood carve 200+lb pumpkins while competing for your votes! $1 voting tickets to benefit our local food bank\, Coastal Harvest\, so they can provide Holiday Meats for families in need this holiday season. Voting will end at 5PM and winner will be announced. \n\n\n\n3PM- Family Carving Competition\n\nSign up in cottage rentals before Saturday or AT THE BARN on Saturday and join in the family pumpkin carving activity-we will have pumpkins and space for 10 families to carve and compete for Cottage Rentals gift certificates. We will give prizes for 1st\, 2nd\, 3rd place winners. Winners will be announced at 5PM. \n\n$20 to enter-all money will go to Coastal Harvest food bank. \n\n**Please bring your own carving tools**\n\n\n\nLittle kids can paint pumpkins for $10-all day starting at 11AM. \n\n\n\nFun for the whole family!\n\n\n\n	Causes\n	Kid Friendly
X-ALT-DESC;FMTTYPE=text/html:<div class="_2qgs" style="color: rgb(75\, 79\, 86)\; padding: 12px\; position: relative\; border-top: none\; font-family: Helvetica\, Arial\, sans-serif\; font-size: 12px\;"><span class="_4n-j _fbReactionComponent__eventDetailsContentTags fsl" data-testid="event-permalink-details" style="font-size: 14px\; font-family: inherit\;">2ND ANNUAL GREAT PUMPKIN WEEKEND &amp\; CARVING COMPETITION | OCT 21 | 11AM- 5PM |<br />\n<br />\nHEAD TO THE BARN IN THE FARM DISTRICT!<br />\n<br />\n11AM- Watch 3 professional carvers- Eric Hawley\, Wade Lapp\, and Jonathan Barwood carve 200+lb pumpkins while competing for your votes! $1 voting tickets to benefit our local food bank\, Coastal Harvest\, so they can provide Holiday Meats for families in need this holiday season. Voting will end at 5PM and winner will be announced.&nbsp\;<br />\n<br />\n3PM- Family Carving Competition<br />\nSign up in cottage rentals before Saturday or AT THE BARN on Saturday and join in the family pumpkin carving activity-we will have pumpkins and space for 10 families to carve and compete for Cottage Rentals gift certificates. We will give prizes for 1st\, 2nd\, 3rd place winners. Winners will be announced at 5PM.&nbsp\;<br />\n$20 to enter-all money will go to Coastal Harvest food bank.&nbsp\;<br />\n**Please bring your own carving tools**<br />\n<br />\nLittle kids can paint pumpkins for $10-all day starting at 11AM.&nbsp\;<br />\n<br />\nFun for the whole family!</span></div>\n\n<div class="_1r51" style="line-height: 24px\; margin: 4px 12px 12px\; min-height: 24px\; font-family: Helvetica\, Arial\, sans-serif\; color: rgb(29\, 33\, 41)\; font-size: 12px\;">\n<ul class="uiList uiCollapsedList uiCollapsedListHidden _509- _4ki" id="u_jsonp_16_p" style="list-style-type: none\; margin: 0px\; padding: 0px\;">\n	<li style="border-width: 0px\; display: inline-block\; vertical-align: top\;"><a href="https://www.facebook.com/events/discovery/?acontext=%7B%22source%22%3A1%2C%22action_history%22%3A%22%5B%7B%5C%22surface%5C%22%3A%5C%22page%5C%22%2C%5C%22mechanism%5C%22%3A%5C%22page_upcoming_events_card%5C%22%2C%5C%22extra_data%5C%22%3A%5B%5D%7D%2C%7B%5C%22surface%5C%22%3A%5C%22permalink%5C%22%2C%5C%22mechanism%5C%22%3A%5C%22surface%5C%22%2C%5C%22extra_data%5C%22%3A%5B%5D%7D%2C%7B%5C%22surface%5C%22%3A%5C%22permalink%5C%22%2C%5C%22mechanism%5C%22%3A%5C%22event_information%5C%22%2C%5C%22extra_data%5C%22%3A%7B%5C%22tag%5C%22%3A%5C%22Causes%5C%22%7D%7D%5D%22%2C%22has_source%22%3Atrue%7D&amp\;suggestion_token=%7B%22event_categories%22%3A%5B1284277608291920%5D%7D" style="color: rgb(54\, 88\, 153)\; cursor: pointer\; text-decoration-line: none\; font-family: inherit\;"><span class="_47od" style="background-color: rgb(237\, 242\, 250)\; border-radius: 2px\; color: rgb(32\, 55\, 95)\; display: block\; height: 14px\; line-height: 14px\; margin: 0px 4px 4px 0px\; padding: 4px 6px\; position: relative\; font-family: inherit\;">Causes</span></a></li>\n	<li style="border-width: 0px 0px 0px 1px\; display: inline-block\; vertical-align: top\;"><a href="https://www.facebook.com/events/discovery/?acontext=%7B%22source%22%3A1%2C%22action_history%22%3A%22%5B%7B%5C%22surface%5C%22%3A%5C%22page%5C%22%2C%5C%22mechanism%5C%22%3A%5C%22page_upcoming_events_card%5C%22%2C%5C%22extra_data%5C%22%3A%5B%5D%7D%2C%7B%5C%22surface%5C%22%3A%5C%22permalink%5C%22%2C%5C%22mechanism%5C%22%3A%5C%22surface%5C%22%2C%5C%22extra_data%5C%22%3A%5B%5D%7D%2C%7B%5C%22surface%5C%22%3A%5C%22permalink%5C%22%2C%5C%22mechanism%5C%22%3A%5C%22event_information%5C%22%2C%5C%22extra_data%5C%22%3A%7B%5C%22tag%5C%22%3A%5C%22Kid+Friendly%5C%22%7D%7D%5D%22%2C%22has_source%22%3Atrue%7D&amp\;suggestion_token=%7B%22event_flags%22%3A%5B%22family_friendly%22%5D%7D" style="color: rgb(54\, 88\, 153)\; cursor: pointer\; text-decoration-line: none\; font-family: inherit\;"><span class="_47od" style="background-color: rgb(237\, 242\, 250)\; border-radius: 2px\; color: rgb(32\, 55\, 95)\; display: block\; height: 14px\; line-height: 14px\; margin: 0px 4px 4px 0px\; padding: 4px 6px\; position: relative\; font-family: inherit\;">Kid Friendly</span></a></li>\n</ul>\n</div>\n
LOCATION:Seabrook Pacific Beach
UID:e.26.8292
SEQUENCE:3
DTSTAMP:20260425T213301Z
URL:https://chamber.graysharbor.org/events/details/the-great-pumpkin-carving-weekend-8292
END:VEVENT

END:VCALENDAR
