BEGIN:VCALENDAR
VERSION:2.0
PRODID:-//ChamberMaster//Event Calendar 2.0//EN
METHOD:PUBLISH
X-PUBLISHED-TTL:P3D
REFRESH-INTERVAL:P3D
CALSCALE:GREGORIAN
BEGIN:VEVENT
DTSTART:20181124T010000Z
DTEND:20181124T023000Z
X-MICROSOFT-CDO-ALLDAYEVENT:FALSE
SUMMARY:The Great Tree Lighting
DESCRIPTION:ANNUAL TREE LIGHTING | MERIWEATHER SQUARE | 5-6:30PM | \n \n\nJoin us for this annual event! Bundle up and be ready to sing some Holiday songs\, meet Santa\, see elves on bikes\, and of course LIGHT THE GREAT TREE!\n\n \n\n5-6pm Sit on Santa's lap and take photos or tell him your wish list\n\n6pm Tree lighting and Caroling \n\n\n\nDon't forget to bring a platter of your favorite cookies for the cookie social!\n\n \n\nWarm up at the hot cocoa bar\, snack on cookies\, and mingle with your neighbors\, it is the Seabrook tradition.
X-ALT-DESC;FMTTYPE=text/html:<div class="rtecontent" style="margin: 0px\; outline: none 0px\; padding: 0px\; color: rgb(57\, 79\, 90)\; font-family: Ubuntu\, arial\, sans-serif\; font-size: 14px\; background-color: rgb(246\, 247\, 247)\;"><span style="margin: 0px\; outline: none 0px\; padding: 0px\;">ANNUAL TREE LIGHTING | MERIWEATHER SQUARE | 5-6:30PM |&nbsp\;</span>\n<div style="margin: 0px\; outline: none 0px\; padding: 0px\;">&nbsp\;</div>\n\n<div style="margin: 0px\; outline: none 0px\; padding: 0px\;">Join us for this annual event! Bundle up and be ready to sing some Holiday songs\, meet Santa\, see elves on bikes\, and of course LIGHT THE GREAT TREE!</div>\n\n<div style="margin: 0px\; outline: none 0px\; padding: 0px\;">&nbsp\;</div>\n\n<div style="margin: 0px\; outline: none 0px\; padding: 0px\;">5-6pm Sit on Santa&#39\;s lap and take photos or tell him your wish list</div>\n\n<div style="margin: 0px\; outline: none 0px\; padding: 0px\;">6pm Tree lighting and Caroling&nbsp\;<br style="margin: 0px\; outline: none 0px\; padding: 0px\;" />\n<br style="margin: 0px\; outline: none 0px\; padding: 0px\;" />\nDon&#39\;t forget to bring a platter of your favorite cookies for the cookie social!</div>\n\n<div style="margin: 0px\; outline: none 0px\; padding: 0px\;">&nbsp\;</div>\n\n<div style="margin: 0px\; outline: none 0px\; padding: 0px\;">Warm up at the hot cocoa bar\, snack on cookies\, and mingle with your neighbors\, it is the Seabrook tradition.</div>\n</div>\n\n<div class="bar clearfix" style="margin: 20px 0px\; outline: none 0px\; padding: 0px\; color: rgb(57\, 79\, 90)\; font-family: Ubuntu\, arial\, sans-serif\; font-size: 14px\; background-color: rgb(246\, 247\, 247)\;">\n<div class="fb-like fb_iframe_widget" data-font="arial" data-href="http://www.seabrookwa.com/events-calendar?cid=1896&amp\;cat[]=19&amp\;cat[]=23&amp\;cat[]=17&amp\;cat[]=5&amp\;cat[]=11&amp\;cat[]=25&amp\;cat[]=2&amp\;cat[]=13&amp\;cat[]=15&amp\;cat[]=7&amp\;cat[]=3&amp\;cat[]=21" data-send="false" data-show-faces="false" data-width="300" fb-iframe-plugin-query="app_id=&amp\;container_width=0&amp\;font=arial&amp\;href=http%3A%2F%2Fwww.seabrookwa.com%2Fevents-calendar%3Fcid%3D1896%26cat%5B%5D%3D19%26cat%5B%5D%3D23%26cat%5B%5D%3D17%26cat%5B%5D%3D5%26cat%5B%5D%3D11%26cat%5B%5D%3D25%26cat%5B%5D%3D2%26cat%5B%5D%3D13%26cat%5B%5D%3D15%26cat%5B%5D%3D7%26cat%5B%5D%3D3%26cat%5B%5D%3D21&amp\;locale=en_US&amp\;sdk=joey&amp\;send=false&amp\;show_faces=false&amp\;width=300" fb-xfbml-state="rendered" style="margin: 0px\; outline: none 0px\; padding: 0px\; display: inline-block\; position: relative\; float: left\;">&nbsp\;</div>\n</div>\n
LOCATION:Seabrook
UID:e.26.9459
SEQUENCE:3
DTSTAMP:20260424T223935Z
URL:https://chamber.graysharbor.org/events/details/the-great-tree-lighting-9459
END:VEVENT

END:VCALENDAR
