BEGIN:VCALENDAR
VERSION:2.0
PRODID:-//ChamberMaster//Event Calendar 2.0//EN
METHOD:PUBLISH
X-PUBLISHED-TTL:P3D
REFRESH-INTERVAL:P3D
CALSCALE:GREGORIAN
BEGIN:VEVENT
DTSTART:20130124T033000Z
DTEND:20130209T003000Z
X-MICROSOFT-CDO-ALLDAYEVENT:FALSE
SUMMARY:The Hand-Pulled Print
DESCRIPTION:Co-Curated by Cara Beth Stevenson and Erik Sandgren an all-media invitational exhibition\n\n\n\nPrints by the following artists:\n\nJim Bailey\, Marcus Benavides\, Elton Bennet\, midge Black\, Liz Born\, Mika Boyd\, Meredith Cleveland\, Craig Cornwall\, Anthony James Cotham\, Kathryn Cotnoir\, Michael Dal Cerro\, E. Dove\, Sasha Edmundson\, Barry Herem\, Robert Huck\, Ann Johnston-Schuster\, Helmi Juvonen\, Nayla Kaly\, Morgan Knowles\, Kathe Kollwitz\, Anne Lambert Buie\, Angee Lennard\, Carol Marriot\, ERik Sandgren\, Nelson Sandgren\, Dominic Senibaldi\, Patrick Smyczek\, Jason Sobottka\, Cara Beth Stevenson\, Austin Stiegemeier\, Eric Stubb\, Debby Sundbaum-Sommers\, Dee Vadnais\, Lucy Warnick\n\n\n\nOn display through February 8th
X-ALT-DESC;FMTTYPE=text/html:Co-Curated by Cara Beth Stevenson and Erik Sandgren an all-media invitational exhibition<br />\n<br />\nPrints by the following artists:<br />\nJim Bailey\, Marcus Benavides\, Elton Bennet\, midge Black\, Liz Born\, Mika Boyd\, Meredith Cleveland\, Craig Cornwall\, Anthony James Cotham\, Kathryn Cotnoir\, Michael Dal Cerro\, E. Dove\, Sasha Edmundson\, Barry Herem\, Robert Huck\, Ann Johnston-Schuster\, Helmi Juvonen\, Nayla Kaly\, Morgan Knowles\, Kathe Kollwitz\, Anne Lambert Buie\, Angee Lennard\, Carol Marriot\, ERik Sandgren\, Nelson Sandgren\, Dominic Senibaldi\, Patrick Smyczek\, Jason Sobottka\, Cara Beth Stevenson\, Austin Stiegemeier\, Eric Stubb\, Debby Sundbaum-Sommers\, Dee Vadnais\, Lucy Warnick<br />\n<br />\nOn display through February 8th
LOCATION:Grays Harbor College Library 1620 Edward P. Smith Drive Aberdeen\, WA 98520
UID:e.26.2568
SEQUENCE:3
DTSTAMP:20260421T004645Z
URL:https://chamber.graysharbor.org/events/details/the-hand-pulled-print-01-23-2013-2568
END:VEVENT

END:VCALENDAR
