BEGIN:VCALENDAR
VERSION:2.0
PRODID:-//ChamberMaster//Event Calendar 2.0//EN
METHOD:PUBLISH
X-PUBLISHED-TTL:P3D
REFRESH-INTERVAL:P3D
CALSCALE:GREGORIAN
BEGIN:VEVENT
DTSTART:20180301T183000Z
DTEND:20180301T210000Z
X-MICROSOFT-CDO-ALLDAYEVENT:FALSE
SUMMARY:The Longest Walk
DESCRIPTION:March 1st at 10:30am walkers will start walking from the Grayland Local Store to the Shoalwater Bay Gymnasium in support of domestic violence victims. If you would like to walk in support\, please go to their website and fill out the "walkers packet". March 2nd at 2pm\, you can join in sharing domestic violence stories at the Shoalwater Bay Gymnasium. The walkers will carry each story across the nation to share in Washington DC.
X-ALT-DESC;FMTTYPE=text/html:March 1st at 10:30am walkers will start walking from the Grayland Local Store to the Shoalwater Bay Gymnasium in support of domestic violence victims. If you would like to walk in support\, please go to their website and fill out the &quot\;walkers packet&quot\;. March 2nd at 2pm\, you can join in sharing domestic violence stories at the Shoalwater Bay Gymnasium. The walkers will carry each story across the nation to share in Washington DC.
LOCATION:Grayland Local Store to the Shoalwater Bay Tribal Gymnasium
UID:e.26.9489
SEQUENCE:3
DTSTAMP:20260425T113250Z
URL:https://chamber.graysharbor.org/events/details/the-longest-walk-9489
END:VEVENT

END:VCALENDAR
