BEGIN:VCALENDAR
VERSION:2.0
PRODID:-//ChamberMaster//Event Calendar 2.0//EN
METHOD:PUBLISH
X-PUBLISHED-TTL:P3D
REFRESH-INTERVAL:P3D
CALSCALE:GREGORIAN
BEGIN:VEVENT
DTSTART;VALUE=DATE:20200111
DTEND;VALUE=DATE:20200113
TRANSP:TRANSPARENT
X-MICROSOFT-CDO-ALLDAYEVENT:TRUE
SUMMARY:The Magic Flute
DESCRIPTION:Presenting a condensed\, English language version of W.A. Mozart's timeless masterpiece. Light triumphs over darkness and love conquers all in this witty and moving fairy tale opera. Sponsored by Gary Morean.
X-ALT-DESC;FMTTYPE=text/html:<span style="caret-color: rgb(29\, 33\, 41)\; color: rgb(29\, 33\, 41)\; font-family: system-ui\, -apple-system\, BlinkMacSystemFont\, &quot\;.SFNSText-Regular&quot\;\, sans-serif\; font-size: 14px\; white-space: pre-wrap\;">Presenting a condensed\, English language version of W.A. Mozart&#39\;s timeless masterpiece. Light triumphs over darkness and love conquers all in this witty and moving fairy tale opera.</span><span style="caret-color: rgb(29\, 33\, 41)\; color: rgb(29\, 33\, 41)\; font-family: system-ui\, -apple-system\, BlinkMacSystemFont\, &quot\;.SFNSText-Regular&quot\;\, sans-serif\; font-size: 14px\; white-space: pre-wrap\;"> Sponsored by Gary Morean.</span>
LOCATION:pin Bishop Center for Performing Arts 1620 Edward P Smith Dr\, Aberdeen\, Washington 98520
UID:e.26.12335
SEQUENCE:3
DTSTAMP:20260424T041749Z
URL:https://chamber.graysharbor.org/events/details/the-magic-flute-12335
END:VEVENT

END:VCALENDAR
