BEGIN:VCALENDAR
VERSION:2.0
PRODID:-//ChamberMaster//Event Calendar 2.0//EN
METHOD:PUBLISH
X-PUBLISHED-TTL:P3D
REFRESH-INTERVAL:P3D
CALSCALE:GREGORIAN
BEGIN:VEVENT
DTSTART:20200226T200000Z
DTEND:20200226T210000Z
X-MICROSOFT-CDO-ALLDAYEVENT:FALSE
SUMMARY:The Moore Gallery Ribbon Cutting
DESCRIPTION:GGHI will be organizing a ribbon cutting for The Moore Gallery on Wednesday\, February 26th at 12pm. They are located at 200 S 1st St in Montesano\, WA.\n\n\n\nBringing art to the community of Montesano and Grays Harbor County\, the owner is an oil painter with a passion for plants and those things that make life a little sweeter.\n\n \n\nWe look forward to seeing you there!
X-ALT-DESC;FMTTYPE=text/html:<span style="font-size:14px\;"><span style="font-family:arial\;">GGHI&nbsp\;will be organizing a ribbon cutting for The Moore Gallery on Wednesday\, February 26<sup>th</sup>&nbsp\;at 12pm. They are located at 200 S 1<sup>st</sup>&nbsp\;St in Montesano\, WA.<br />\n<br />\n<span style="caret-color: rgb(28\, 30\, 33)\; color: rgb(28\, 30\, 33)\;">Bringing art to the community of Montesano and Grays Harbor County\, the owner is an oil painter with a passion for plants and those things that make life a little sweeter.</span><br />\n&nbsp\;<br />\nWe look forward to seeing you there!</span></span>
LOCATION:200 S 1st St. Montesano\, WA
UID:e.26.12341
SEQUENCE:3
DTSTAMP:20260424T024518Z
URL:https://chamber.graysharbor.org/events/details/the-moore-gallery-ribbon-cutting-12341
END:VEVENT

END:VCALENDAR
