BEGIN:VCALENDAR
VERSION:2.0
PRODID:-//ChamberMaster//Event Calendar 2.0//EN
METHOD:PUBLISH
X-PUBLISHED-TTL:P3D
REFRESH-INTERVAL:P3D
CALSCALE:GREGORIAN
BEGIN:VEVENT
DTSTART:20180217T033000Z
DTEND:20180217T050000Z
X-MICROSOFT-CDO-ALLDAYEVENT:FALSE
SUMMARY:The Notebook (2004)
DESCRIPTION:Take Your Honey To Hoquiam\n\nFebruary 16 &17 @ 7:30 pm\n\nTickets are $6 for all ages.\n\nTickets are available at Harbor Drug\, City Drug\, Crown Drug\, online\, and at the door 30 minutes prior to the movie.\n\nBased on the novel by Nicholas Sparks\, this 2004 romantic drama offers the wrong side of the tracks love story of young Allie and Noah (Rachel McAdams and Ryan Gosling). The tale is framed by being read from a notebook to nursing home resident Gene Rowlands\, who is suffering from increasing memory loss and dementia\, by fellow senior James Garner. The annual Valentines movie features the "Take Your Honey to Hoquiam" promotion with area restaurants\, florists and others offering free movie tickets with qualifying purchases.\n\n\n\nStarring Gena Rowlands\, James Garner\, and Rachel McAdams.\n\n\n\nOur Take Your Honey to Hoquiam sponsors are 8th Street Ale House\, Al's Humdinger\, Casa Mia\, Deidra's Deli and Farmers' Market\, Foggy's Bar and Grill\, Grizzlies Den\, Hoquiam Brewing Company\, Rose's Taqueria\, Simply Said Flowers\, Simpson Avenue Grill\, The Jitter House\, Welcome Inn Bar and Grill. Be sure to take your special someone to one of these sponsors and you can get two tickets for the movie.\n\n\n\nAlso locally sponsored by Coleman Mortuary\, Crown Drug of Hoquiam\, Grays Harbor College\, Great Northwest FCU\, Harrison Family Mortuary\, Hoquiam Senior Citizen Board\, Oceana Spa\, Pasha Automotive Services\, Westhaven Villa\, Wunderland Child Care\, Jodesha Broadcasting and Alpha Media Grays Harbor.
X-ALT-DESC;FMTTYPE=text/html:<div class="_2qgs" style="color: rgb(75\, 79\, 86)\; padding: 12px\; position: relative\; border-top: none\; font-family: Helvetica\, Arial\, sans-serif\; font-size: 12px\;"><span class="_4n-j _fbReactionComponent__eventDetailsContentTags fsl" data-testid="event-permalink-details" style="font-size: 14px\; font-family: inherit\;">Take Your Honey To Hoquiam<br />\nFebruary 16 &amp\;17 @ 7:30 pm<br />\nTickets are $6 for all ages.<br />\nTickets are available at Harbor Drug\, City Drug\, Crown Drug\, online\, and at the door 30 minutes prior to the movie.<br />\nBased on the novel by Nicholas Sparks\, this 2004 romantic drama offers the wrong side of the tracks love story of young Allie and Noah (Rachel McAdams and Ryan Gosling). The tale is framed by being read from a notebook to nursing home resident Gene Rowlands\, who is suffering from increasing memory loss and dementia\, by fellow senior James Garner. The annual Valentines movie features the &ldquo\;Take Your Honey to Hoquiam&rdquo\; promotion with area restaurants\, florists and others offering free movie tickets with qualifying&nbsp\;<span class="text_exposed_show" style="display: inline\; font-family: inherit\;">purchases.<br />\n<br />\nStarring Gena Rowlands\, James Garner\, and Rachel McAdams.<br />\n<br />\nOur Take Your Honey to Hoquiam sponsors are 8th Street Ale House\, Al&#39\;s Humdinger\, Casa Mia\, Deidra&#39\;s Deli and Farmers&#39\; Market\, Foggy&#39\;s Bar and Grill\, Grizzlies Den\, Hoquiam Brewing Company\, Rose&#39\;s Taqueria\, Simply Said Flowers\, Simpson Avenue Grill\, The Jitter House\, Welcome Inn Bar and Grill. Be sure to take your special someone to one of these sponsors and you can get two tickets for the movie.<br />\n<br />\nAlso locally sponsored by Coleman Mortuary\, Crown Drug of Hoquiam\, Grays Harbor College\, Great Northwest FCU\, Harrison Family Mortuary\, Hoquiam Senior Citizen Board\, Oceana Spa\, Pasha Automotive Services\, Westhaven Villa\, Wunderland Child Care\, Jodesha Broadcasting and Alpha Media Grays Harbor.</span></span></div>\n\n<div class="_1r51" style="line-height: 24px\; margin: 4px 12px 12px\; min-height: 24px\; font-family: Helvetica\, Arial\, sans-serif\; color: rgb(29\, 33\, 41)\; font-size: 12px\;">\n<ul class="uiList uiCollapsedList uiCollapsedListHidden _509- _4ki" id="u_fetchstream_6_p" style="list-style-type: none\; margin: 0px\; padding: 0px\;">\n	<li style="border-width: 0px\; display: inline-block\; vertical-align: top\;">&nbsp\;</li>\n</ul>\n</div>\n
LOCATION:7th Street Theatre Hoquiam\, WA
UID:e.26.9510
SEQUENCE:3
DTSTAMP:20260425T130809Z
URL:https://chamber.graysharbor.org/events/details/the-notebook-2004-9510
END:VEVENT

END:VCALENDAR
