BEGIN:VCALENDAR
VERSION:2.0
PRODID:-//ChamberMaster//Event Calendar 2.0//EN
METHOD:PUBLISH
X-PUBLISHED-TTL:P3D
REFRESH-INTERVAL:P3D
CALSCALE:GREGORIAN
BEGIN:VEVENT
DTSTART:20190101T050000Z
DTEND:20190101T080000Z
X-MICROSOFT-CDO-ALLDAYEVENT:FALSE
SUMMARY:The Olson Band at Quinault Resort and Casino
DESCRIPTION:Come bring in the New Year with us at the Quinault Beach Resort and Casino!! Music starts at 9 PM!\n\n\n\nhttps://www.youtube.com/watch?v=wHVnu0v6zos
X-ALT-DESC;FMTTYPE=text/html:<span style="caret-color: rgb(29\, 33\, 41)\; color: rgb(29\, 33\, 41)\; font-family: system-ui\, -apple-system\, BlinkMacSystemFont\, &quot\;.SFNSText-Regular&quot\;\, sans-serif\; font-size: 14px\; background-color: rgb(255\, 255\, 255)\;">Come bring in the New Year with us at the&nbsp\;</span><a href="https://www.facebook.com/QuinaultBeachResortandCasino/" style="color: rgb(54\, 88\, 153)\; cursor: pointer\; text-decoration: none\; font-family: system-ui\, -apple-system\, BlinkMacSystemFont\, &quot\;.SFNSText-Regular&quot\;\, sans-serif\; font-size: 14px\;" target="_blank">Quinault Beach Resort and Casino</a><span style="caret-color: rgb(29\, 33\, 41)\; color: rgb(29\, 33\, 41)\; font-family: system-ui\, -apple-system\, BlinkMacSystemFont\, &quot\;.SFNSText-Regular&quot\;\, sans-serif\; font-size: 14px\; background-color: rgb(255\, 255\, 255)\;">!! Music starts at 9 PM!</span><br style="caret-color: rgb(29\, 33\, 41)\; color: rgb(29\, 33\, 41)\; font-family: system-ui\, -apple-system\, BlinkMacSystemFont\, &quot\;.SFNSText-Regular&quot\;\, sans-serif\; font-size: 14px\;" />\n<br style="caret-color: rgb(29\, 33\, 41)\; color: rgb(29\, 33\, 41)\; font-family: system-ui\, -apple-system\, BlinkMacSystemFont\, &quot\;.SFNSText-Regular&quot\;\, sans-serif\; font-size: 14px\;" />\n<a data-lynx-mode="hover" href="https://l.facebook.com/l.php?u=https%3A%2F%2Fwww.youtube.com%2Fwatch%3Fv%3DwHVnu0v6zos%26fbclid%3DIwAR3kH4oO5I0wmexWnkLXNQZviqVRsZrpzKM7SX9bw1YZV7emE_HH9TJrpt8&amp\;h=AT1J3cGo_Bi4Ks15zXIrRVzdd0m54v5yrVSWxDmWcEEloMHjU6BRDh1qtQTlbWZ0qU_7nMpkB3GXWhvhmmoUl9-xaqmAShUmPcafeodw1IUTxtm_0UI4KyOQ3lTvFPhDHZiSl1tmR9_T4KBYyFLmXGoiWg" rel="nofollow noopener" style="color: rgb(54\, 88\, 153)\; cursor: pointer\; text-decoration: none\; font-family: system-ui\, -apple-system\, BlinkMacSystemFont\, &quot\;.SFNSText-Regular&quot\;\, sans-serif\; font-size: 14px\;" target="_blank">https://www.youtube.com/watch?v=wHVnu0v6zos</a>
LOCATION:Quinault Beach Resort and Casino Ocean Shores\, WA
UID:e.26.11402
SEQUENCE:3
DTSTAMP:20260424T194722Z
URL:https://chamber.graysharbor.org/events/details/the-olson-band-at-quinault-resort-and-casino-11402
END:VEVENT

END:VCALENDAR
