BEGIN:VCALENDAR
VERSION:2.0
PRODID:-//ChamberMaster//Event Calendar 2.0//EN
METHOD:PUBLISH
X-PUBLISHED-TTL:P3D
REFRESH-INTERVAL:P3D
CALSCALE:GREGORIAN
BEGIN:VEVENT
DTSTART:20190623T210000Z
DTEND:20190624T000000Z
X-MICROSOFT-CDO-ALLDAYEVENT:FALSE
SUMMARY:The Pirates of Penzance
DESCRIPTION:The Pirates of Penzance\, Gilbert and Sullivan's swashbuckling comedy comes to the Bishop stage as the Grays Harbor Opera Workshop presents an abridged version of the beloved classic. It's pirates versus policemen versus General Stanley's daughters in this tale of mistaken identities\, piratical high jinks\, and happy endings for all.
X-ALT-DESC;FMTTYPE=text/html:The Pirates of Penzance\, Gilbert and Sullivan&#39\;s swashbuckling comedy comes to the Bishop stage as the Grays Harbor Opera Workshop presents an abridged version of the beloved classic. It&#39\;s pirates versus policemen versus General Stanley&#39\;s daughters in this tale of mistaken identities\, piratical high jinks\, and happy endings for all.
LOCATION:1620 Edward P Smith Dr Aberdeen\, Washington
UID:e.26.11987
SEQUENCE:3
DTSTAMP:20260424T121227Z
URL:https://chamber.graysharbor.org/events/details/the-pirates-of-penzance-06-23-2019-11987
END:VEVENT

END:VCALENDAR
