BEGIN:VCALENDAR
VERSION:2.0
PRODID:-//ChamberMaster//Event Calendar 2.0//EN
METHOD:PUBLISH
X-PUBLISHED-TTL:P3D
REFRESH-INTERVAL:P3D
CALSCALE:GREGORIAN
BEGIN:VEVENT
DTSTART:20171125T033000Z
DTEND:20171125T050000Z
X-MICROSOFT-CDO-ALLDAYEVENT:FALSE
SUMMARY:The Polar Express at 7th St. Theatre
DESCRIPTION:The Polar Express\nTickets are $6 for all ages.\n\nTicket are available at City Drug\, Crown Drug\, Harbor Drug\, online and at the door 30 minutes prior to the show.\n\n\n\nThis is the story of a young boy on Christmas Eve who boards on a powerful magical train that's headed to the North Pole and Santa Claus's home. What unfolds is an adventure which follows a doubting boy\, he embarks on a journey of self-discovery which shows him that the wonder of life never fades for those who believe.\n\n\n\nWe will have a limited supply of bells for sale in the lobby. We also have a train set to raffle each night.\n\n\n\nStarring Tom Hanks\, Chris Coppola\, and Michael Jeter.\n\n\n\nLocally sponsored by Coleman Mortuary\, Inc.\, Contanda Terminals\, Dennis Company\, Domino's\, Durney Insurance\, Grays Harbor Community College\, Great Northwest Federal Credit Union\, Harrison Family Mortuary\, Hanner Enterprises/McDonald's\, Hoquiam Senior Center Board\, KD&S Environmental\, Inc.\, Pasha Automotive Services\, Rock Construction\, LLC\, Valentine Law Office\, PC\, Washingtonian Print/Bookee's Den\, Wunderland Childcare\, Jodesha Broadcasting\, and Alpha Media Grays Harbor.\n\n\n\n	Film\n	Kid Friendly
X-ALT-DESC;FMTTYPE=text/html:<strong>The Polar Express</strong>\n<div class="_2qgs" style="color: rgb(75\, 79\, 86)\; padding: 12px\; position: relative\; border-top: none\; font-family: Helvetica\, Arial\, sans-serif\; font-size: 12px\;"><span class="_4n-j _fbReactionComponent__eventDetailsContentTags fsl" data-testid="event-permalink-details" style="font-size: 14px\; font-family: inherit\;">Tickets are $6 for all ages.<br />\nTicket are available at City Drug\, Crown Drug\, Harbor Drug\, online and at the door 30 minutes prior to the show.<br />\n<br />\nThis is the story of a young boy on Christmas Eve who boards on a powerful magical train that&#39\;s headed to the North Pole and Santa Claus&#39\;s home. What unfolds is an adventure which follows a doubting boy\, he embarks on a journey of self-discovery which shows him that the wonder of life never fades for those who believe.<br />\n<br />\nWe will have a limited supply of bells for sale in the lobby. We also have a train set to raffle each night.<br />\n<br />\nStarring Tom Hanks\, Chris Coppola\, and Michael Jeter.<br />\n<br />\nLocally sponsored by Coleman Mortuary\, Inc.\, Contanda Terminals\, Dennis Company\, Domino&#39\;s\, Durney Insurance\, Grays Harbor Community College\, Great Northwest Federal Credit Union\, Harrison Family Mortuary\, Hanner Enterprises/McDonald&#39\;s\, Hoquiam Senior Center Board\, KD&amp\;S Environmental\, Inc.\, Pasha Automotive Services\, Rock Construction\, LLC\, Valentine Law Office\, PC\, Washingtonian Print/Bookee&#39\;s Den\, Wunderland Childcare\, Jodesha Broadcasting\, and Alpha Media Grays Harbor.</span></div>\n\n<div class="_1r51" style="line-height: 24px\; margin: 4px 12px 12px\; min-height: 24px\; font-family: Helvetica\, Arial\, sans-serif\; color: rgb(29\, 33\, 41)\; font-size: 12px\;">\n<ul class="uiList uiCollapsedList uiCollapsedListHidden _509- _4ki" id="u_jsonp_6_q" style="list-style-type: none\; margin: 0px\; padding: 0px\;">\n	<li style="border-width: 0px\; display: inline-block\; vertical-align: top\;"><a href="https://www.facebook.com/events/discovery/?acontext=%7B%22ref%22%3A44%2C%22unit_ref%22%3A%22related_events%22%2C%22source%22%3A1%2C%22action_history%22%3A%22%5B%7B%5C%22surface%5C%22%3A%5C%22permalink%5C%22%2C%5C%22mechanism%5C%22%3A%5C%22RHC%5C%22%2C%5C%22extra_data%5C%22%3A%5B%5D%7D%2C%7B%5C%22surface%5C%22%3A%5C%22permalink%5C%22%2C%5C%22mechanism%5C%22%3A%5C%22surface%5C%22%2C%5C%22extra_data%5C%22%3A%5B%5D%7D%2C%7B%5C%22surface%5C%22%3A%5C%22permalink%5C%22%2C%5C%22mechanism%5C%22%3A%5C%22event_information%5C%22%2C%5C%22extra_data%5C%22%3A%7B%5C%22tag%5C%22%3A%5C%22Film%5C%22%7D%7D%5D%22%2C%22has_source%22%3Atrue%7D&amp\;suggestion_token=%7B%22event_categories%22%3A%5B392955781081975%5D%7D" style="color: rgb(54\, 88\, 153)\; cursor: pointer\; text-decoration-line: none\; font-family: inherit\;"><span class="_47od" style="background-color: rgb(237\, 242\, 250)\; border-radius: 2px\; color: rgb(32\, 55\, 95)\; display: block\; height: 14px\; line-height: 14px\; margin: 0px 4px 4px 0px\; padding: 4px 6px\; position: relative\; font-family: inherit\;">Film</span></a></li>\n	<li style="border-width: 0px 0px 0px 1px\; display: inline-block\; vertical-align: top\;"><a href="https://www.facebook.com/events/discovery/?acontext=%7B%22ref%22%3A44%2C%22unit_ref%22%3A%22related_events%22%2C%22source%22%3A1%2C%22action_history%22%3A%22%5B%7B%5C%22surface%5C%22%3A%5C%22permalink%5C%22%2C%5C%22mechanism%5C%22%3A%5C%22RHC%5C%22%2C%5C%22extra_data%5C%22%3A%5B%5D%7D%2C%7B%5C%22surface%5C%22%3A%5C%22permalink%5C%22%2C%5C%22mechanism%5C%22%3A%5C%22surface%5C%22%2C%5C%22extra_data%5C%22%3A%5B%5D%7D%2C%7B%5C%22surface%5C%22%3A%5C%22permalink%5C%22%2C%5C%22mechanism%5C%22%3A%5C%22event_information%5C%22%2C%5C%22extra_data%5C%22%3A%7B%5C%22tag%5C%22%3A%5C%22Kid+Friendly%5C%22%7D%7D%5D%22%2C%22has_source%22%3Atrue%7D&amp\;suggestion_token=%7B%22event_flags%22%3A%5B%22family_friendly%22%5D%7D" style="color: rgb(54\, 88\, 153)\; cursor: pointer\; text-decoration-line: none\; font-family: inherit\;"><span class="_47od" style="background-color: rgb(237\, 242\, 250)\; border-radius: 2px\; color: rgb(32\, 55\, 95)\; display: block\; height: 14px\; line-height: 14px\; margin: 0px 4px 4px 0px\; padding: 4px 6px\; position: relative\; font-family: inherit\;">Kid Friendly</span></a></li>\n</ul>\n</div>\n
LOCATION:7th St. Theatre Hoquiam\, WA
UID:e.26.8362
SEQUENCE:3
DTSTAMP:20260425T181450Z
URL:https://chamber.graysharbor.org/events/details/the-polar-express-at-7th-st-theatre-8362
END:VEVENT

END:VCALENDAR
