BEGIN:VCALENDAR
VERSION:2.0
PRODID:-//ChamberMaster//Event Calendar 2.0//EN
METHOD:PUBLISH
X-PUBLISHED-TTL:P3D
REFRESH-INTERVAL:P3D
CALSCALE:GREGORIAN
BEGIN:VEVENT
DTSTART:20181208T220000Z
DTEND:20181208T230000Z
X-MICROSOFT-CDO-ALLDAYEVENT:FALSE
SUMMARY:The Shoemaker and the Elf
DESCRIPTION:Shaver Marionettes will present a winter puppet play. Who could possibly be making shoes for the elderly shoemaker? Watch the shoemaker puzzle his way through the mystery of beautifully finished shoes. This fairy tale delights with its impishly magical elf\, a devoted daughter with baking issues and a Queen who collects shoes! Sponsored by the Friends of the Montesano\, W.H. Abel Memorial\, Timberland Library.
X-ALT-DESC;FMTTYPE=text/html:<div class="_63eu" style="box-sizing: border-box\; font-size: 14px\; max-height: 260px\; overflow: hidden\; padding: 12px\; word-wrap: break-word\; font-family: system-ui\, -apple-system\, BlinkMacSystemFont\, &quot\;.SFNSText-Regular&quot\;\, sans-serif\; caret-color: rgb(29\, 33\, 41)\; color: rgb(29\, 33\, 41)\;">\n<div class="_63ew" data-testid="event-permalink-details" style="font-family: inherit\;"><span style="caret-color: rgb(29\, 33\, 41)\; color: rgb(29\, 33\, 41)\; font-family: system-ui\, -apple-system\, BlinkMacSystemFont\, &quot\;.SFNSText-Regular&quot\;\, sans-serif\; font-size: 14px\; background-color: rgb(255\, 255\, 255)\;">Shaver Marionettes will present a winter puppet play. Who could possibly be making shoes for the elderly shoemaker? Watch the shoemaker puzzle his way through the mystery of beautifully finished shoes. This fairy tale delights with its impishly magical elf\, a devoted daughter with baking issues and a Queen who collects shoes! Sponsored by the Friends of the Montesano\, W.H. Abel Memorial\, Timberland Library.</span></div>\n</div>\n
LOCATION:pin Montesano Timberland Library 125 S Main St\, Montesano\, Washington 98563
UID:e.26.11360
SEQUENCE:3
DTSTAMP:20260424T210515Z
URL:https://chamber.graysharbor.org/events/details/the-shoemaker-and-the-elf-11360
END:VEVENT

END:VCALENDAR
