BEGIN:VCALENDAR
VERSION:2.0
PRODID:-//ChamberMaster//Event Calendar 2.0//EN
METHOD:PUBLISH
X-PUBLISHED-TTL:P3D
REFRESH-INTERVAL:P3D
CALSCALE:GREGORIAN
BEGIN:VEVENT
DTSTART:20190819T213000Z
DTEND:20190819T223000Z
X-MICROSOFT-CDO-ALLDAYEVENT:FALSE
SUMMARY:The Tap Room Ribbon Cutting
DESCRIPTION:The GGHI Ambassador Team will be at the Tap Room in downtown Aberdeen to perform a ribbon cutting on Monday August 19th at 2:30pm. The Tap Room has recently changed ownership as well as completed an extensive remodel. This locally owned business specializes in serving micro beers\, fine wine\, spirits and delicious food options. \n\n\n\nCome check out their new space and meet some local community members!
X-ALT-DESC;FMTTYPE=text/html:<span style="font-size:14px\;"><span style="font-family:arial\;">The GGHI Ambassador Team will be at the Tap Room in downtown Aberdeen to perform a ribbon cutting on Monday August 19th at 2:30pm. The Tap Room has recently changed ownership as well as completed an extensive remodel. This locally owned business&nbsp\;<span style="caret-color: rgb(28\, 30\, 33)\; color: rgb(28\, 30\, 33)\;">specializes in serving micro beers\, fine wine\, spirits and delicious food options.&nbsp\;</span><br />\n<br />\nCome check out their new space and meet some local community members!</span></span>
LOCATION:The Tap Room 103 E Wishkah St Aberdeen\, Washington 98520
UID:e.26.12132
SEQUENCE:3
DTSTAMP:20260424T090443Z
URL:https://chamber.graysharbor.org/events/details/the-tap-room-ribbon-cutting-12132
END:VEVENT

END:VCALENDAR
