BEGIN:VCALENDAR
VERSION:2.0
PRODID:-//ChamberMaster//Event Calendar 2.0//EN
METHOD:PUBLISH
X-PUBLISHED-TTL:P3D
REFRESH-INTERVAL:P3D
CALSCALE:GREGORIAN
BEGIN:VEVENT
DTSTART:20171022T023000Z
DTEND:20171022T040000Z
X-MICROSOFT-CDO-ALLDAYEVENT:FALSE
SUMMARY:The Wizard of Oz
DESCRIPTION:October 21 @ 7:30 & October 22 @ 2:00\n\nTickets are $6 for all ages.\n\nTickets are available at Crown Drug\, Harbor Drug\, City Drug\, online\, and at the door 30 minutes before the show. /h5 \n\n\n\nIn this charming film based on the popular L. Frank Baum stories\, Dorothy and her dog Toto are caught in a tornado's path and somehow end up in the land of Oz. Here she meets some memorable friends and foes in her journey to meet the Wizard of Oz who everyone says can help her return home and possibly grant her new friends their goals of a brain\, heart and courage.\n\n\n\nStarring Judy Garland\, Frank Morgan and Ray Bolger.\n\n\n\n	Film\n	Kid Friendly
X-ALT-DESC;FMTTYPE=text/html:<div class="_2qgs" style="color: rgb(75\, 79\, 86)\; padding: 12px\; position: relative\; border-top: none\; font-family: Helvetica\, Arial\, sans-serif\; font-size: 12px\;"><span class="_4n-j _fbReactionComponent__eventDetailsContentTags fsl" data-testid="event-permalink-details" style="font-size: 14px\; font-family: inherit\;">October 21 @ 7:30 &amp\; October 22 @ 2:00<br />\nTickets are $6 for all ages.<br />\nTickets are available at Crown Drug\, Harbor Drug\, City Drug\, online\, and at the door 30 minutes before the show.&lt\;/h5&gt\;<br />\n<br />\nIn this charming film based on the popular L. Frank Baum stories\, Dorothy and her dog Toto are caught in a tornado&#39\;s path and somehow end up in the land of Oz. Here she meets some memorable friends and foes in her journey to meet the Wizard of Oz who everyone says can help her return home and possibly grant her new friends their goals of a brain\, heart and courage.<br />\n<br />\nStarring Judy Garland\, Frank Morgan and Ray Bolger.</span></div>\n\n<div class="_1r51" style="line-height: 24px\; margin: 4px 12px 12px\; min-height: 24px\; font-family: Helvetica\, Arial\, sans-serif\; color: rgb(29\, 33\, 41)\; font-size: 12px\;">\n<ul class="uiList uiCollapsedList uiCollapsedListHidden _509- _4ki" id="u_jsonp_14_o" style="list-style-type: none\; margin: 0px\; padding: 0px\;">\n	<li style="border-width: 0px\; display: inline-block\; vertical-align: top\;"><a href="https://www.facebook.com/events/discovery/?acontext=%7B%22ref%22%3A3%2C%22ref_newsfeed_story_type%22%3A%22regular%22%2C%22source%22%3A1%2C%22feed_story_type%22%3A263%2C%22action_history%22%3A%22%5B%7B%5C%22surface%5C%22%3A%5C%22permalink%5C%22%2C%5C%22mechanism%5C%22%3A%5C%22surface%5C%22%2C%5C%22extra_data%5C%22%3A%5B%5D%7D%2C%7B%5C%22surface%5C%22%3A%5C%22permalink%5C%22%2C%5C%22mechanism%5C%22%3A%5C%22event_information%5C%22%2C%5C%22extra_data%5C%22%3A%7B%5C%22tag%5C%22%3A%5C%22Film%5C%22%7D%7D%5D%22%2C%22has_source%22%3Atrue%7D&amp\;suggestion_token=%7B%22event_categories%22%3A%5B392955781081975%5D%7D" style="color: rgb(54\, 88\, 153)\; cursor: pointer\; text-decoration-line: none\; font-family: inherit\;"><span class="_47od" style="background-color: rgb(237\, 242\, 250)\; border-radius: 2px\; color: rgb(32\, 55\, 95)\; display: block\; height: 14px\; line-height: 14px\; margin: 0px 4px 4px 0px\; padding: 4px 6px\; position: relative\; font-family: inherit\;">Film</span></a></li>\n	<li style="border-width: 0px 0px 0px 1px\; display: inline-block\; vertical-align: top\;"><a href="https://www.facebook.com/events/discovery/?acontext=%7B%22ref%22%3A3%2C%22ref_newsfeed_story_type%22%3A%22regular%22%2C%22source%22%3A1%2C%22feed_story_type%22%3A263%2C%22action_history%22%3A%22%5B%7B%5C%22surface%5C%22%3A%5C%22permalink%5C%22%2C%5C%22mechanism%5C%22%3A%5C%22surface%5C%22%2C%5C%22extra_data%5C%22%3A%5B%5D%7D%2C%7B%5C%22surface%5C%22%3A%5C%22permalink%5C%22%2C%5C%22mechanism%5C%22%3A%5C%22event_information%5C%22%2C%5C%22extra_data%5C%22%3A%7B%5C%22tag%5C%22%3A%5C%22Kid+Friendly%5C%22%7D%7D%5D%22%2C%22has_source%22%3Atrue%7D&amp\;suggestion_token=%7B%22event_flags%22%3A%5B%22family_friendly%22%5D%7D" style="color: rgb(54\, 88\, 153)\; cursor: pointer\; text-decoration-line: none\; font-family: inherit\;"><span class="_47od" style="background-color: rgb(237\, 242\, 250)\; border-radius: 2px\; color: rgb(32\, 55\, 95)\; display: block\; height: 14px\; line-height: 14px\; margin: 0px 4px 4px 0px\; padding: 4px 6px\; position: relative\; font-family: inherit\;">Kid Friendly</span></a></li>\n</ul>\n</div>\n
LOCATION:7th Street Theatre Hoquiam\, WA
UID:e.26.8289
SEQUENCE:3
DTSTAMP:20260425T213317Z
URL:https://chamber.graysharbor.org/events/details/the-wizard-of-oz-8289
END:VEVENT

END:VCALENDAR
