BEGIN:VCALENDAR
VERSION:2.0
PRODID:-//ChamberMaster//Event Calendar 2.0//EN
METHOD:PUBLISH
X-PUBLISHED-TTL:P3D
REFRESH-INTERVAL:P3D
CALSCALE:GREGORIAN
BEGIN:VEVENT
DTSTART;VALUE=DATE:20181017
DTEND;VALUE=DATE:20181018
TRANSP:TRANSPARENT
X-MICROSOFT-CDO-ALLDAYEVENT:TRUE
SUMMARY:Theology on Tap
DESCRIPTION:Do you like banter and beer? Are you curious\, confused\, happy\, questioning or even intrigued by God or religion? Well then join us for Theology on Tap at Steam Donkey Brewing Company in Aberdeen at 7pm. Steam Donkey is a great place to come and enjoy their wonderful beer. They allow and encourage to bring outside food in- so bring in some food\, get a beer or lemonade here and enjoy our conversations! Topics will vary each month.
X-ALT-DESC;FMTTYPE=text/html:<span style="display: inline !important\; float: none\; background-color: transparent\; color: rgb(29\, 33\, 41)\; font-family: Helvetica\,Arial\,sans-serif\; font-size: 14px\; font-style: normal\; font-variant: normal\; font-weight: 400\; letter-spacing: normal\; orphans: 2\; text-align: left\; text-decoration: none\; text-indent: 0px\; text-transform: none\; -webkit-text-stroke-width: 0px\; white-space: normal\; word-spacing: 0px\;">Do you like banter and beer? Are you curious\, confused\, happy\, questioning or even intrigued by God or religion? Well then join us for Theology on Tap at Steam Donkey Brewing Company in Aberdeen at 7pm. Steam Donkey is a great place to come and enjoy their wonderful beer. They allow and encourage to bring outside food in- so bring in some food\, get a beer or lemonade here and enjoy our conversations! Topics will vary each month.</span>
LOCATION:Steam Donkey Brewing Co. 101 E Wishkah Aberdeen\, WA
UID:e.26.11272
SEQUENCE:3
DTSTAMP:20260425T001944Z
URL:https://chamber.graysharbor.org/events/details/theology-on-tap-11272
END:VEVENT

END:VCALENDAR
