BEGIN:VCALENDAR
VERSION:2.0
PRODID:-//ChamberMaster//Event Calendar 2.0//EN
METHOD:PUBLISH
X-PUBLISHED-TTL:P3D
REFRESH-INTERVAL:P3D
CALSCALE:GREGORIAN
BEGIN:VEVENT
DTSTART:20170928T020000Z
DTEND:20170928T033000Z
X-MICROSOFT-CDO-ALLDAYEVENT:FALSE
SUMMARY:Theology on Tap
DESCRIPTION:A pastor walks into a bar...no this isn't the beginning of a joke but the beginning of something fun and new! Do you like banter and beer? Are you curious\, confused\, happy\, questioning or even intrigued by God or religion? Well then join us for Theology on Tap at Steam Donkey Brewing Company in Aberdeen at 7pm. Steam Donkey is a great place to come and enjoy their wonderful beer. They allow and encourage to bring outside food in- so bring in some food\, get a beer or lemonade here and enjoy our conversations! Topics will vary each month.
X-ALT-DESC;FMTTYPE=text/html:<span style="color: rgb(75\, 79\, 86)\; font-family: Helvetica\, Arial\, sans-serif\; font-size: 14px\; background-color: rgb(255\, 255\, 255)\;">A pastor walks into a bar...no this isn&#39\;t the beginning of a joke but the beginning of something fun and new! Do you like banter and beer? Are you curious\, confused\, happy\, questioning or even intrigued by God or religion? Well then join us for Theology on Tap at Steam Donkey Brewing Company in Aberdeen at 7pm. Steam Donkey is a great place to come and enjoy their wonderful beer. They allow and encourage to bring outside food in- so bring in some food\, get a beer or lemonade here and enjoy our conversations! Topics will vary each month.</span>
LOCATION:Steam Donkey Brewery 101 E Wishkah St. Aberdeen\, WA
UID:e.26.8240
SEQUENCE:3
DTSTAMP:20260425T230310Z
URL:https://chamber.graysharbor.org/events/details/theology-on-tap-8240
END:VEVENT

END:VCALENDAR
