BEGIN:VCALENDAR
VERSION:2.0
PRODID:-//ChamberMaster//Event Calendar 2.0//EN
METHOD:PUBLISH
X-PUBLISHED-TTL:P3D
REFRESH-INTERVAL:P3D
CALSCALE:GREGORIAN
BEGIN:VEVENT
DTSTART:20171029T010000Z
DTEND:20171029T040000Z
X-MICROSOFT-CDO-ALLDAYEVENT:FALSE
SUMMARY:There's No Place Like Home 12th Annual Dinner & Auction
DESCRIPTION:There's No Place Like Home 12th Annual Dinner & Auction\n\nHabitat for Humanity's 12th Annual Dinner & Auction\n\nDinner by O'Brien's Catering\n\nSilent & Live Auctions\n\nTickets $50 \n\nPurchase at: The Habitat Store\n\n3005 Simpson Avenue\, Hoquiam\n\nor from your favorite Habitat Board Member.This Dinner & Auction event has been the foundation for our fund raising efforts since our inception. We rely on donations and financial support to provide much needed services and help ensure that "everyone has a decent place to live". \n\nFor more information about Tickets OR if you would like to donate an item for the auction\, please call 360-533-8090\, or stop by the store for you tickets!\n\n\n\n	Causes
X-ALT-DESC;FMTTYPE=text/html:<h1 class="_5gmx" data-testid="event-permalink-event-name" id="seo_h1_tag" style="color: rgb(29\, 33\, 41)\; font-size: 20px\; margin: 0px 12px 0px 0px\; padding: 0px\; font-weight: normal\; line-height: 28px\; font-family: Helvetica\, Arial\, sans-serif\; background-color: rgb(255\, 255\, 255)\;">There&#39\;s No Place Like Home 12th Annual Dinner &amp\; Auction</h1>\n\n<div class="_2qgs" style="color: rgb(75\, 79\, 86)\; padding: 12px\; position: relative\; border-top: none\; font-family: Helvetica\, Arial\, sans-serif\; font-size: 12px\;"><span class="_4n-j _3cht fsl" data-testid="event-permalink-details" style="font-size: 14px\; font-family: inherit\;">Habitat for Humanity&#39\;s 12th Annual Dinner &amp\; Auction<br />\nDinner by O&#39\;Brien&#39\;s Catering<br />\nSilent &amp\; Live Auctions<br />\nTickets $50&nbsp\;<br />\nPurchase at: The Habitat Store<br />\n3005 Simpson Avenue\, Hoquiam<br />\nor from your favorite Habitat Board Member.This Dinner &amp\; Auction event has been the foundation for our fund raising efforts since our inception. We rely on donations and financial support to provide much needed services and help ensure that &quot\;everyone has a decent place to live&quot\;.&nbsp\;<br />\nFor more information about Tickets OR if you would like to donate an item for the auction\, please call 360-533-8090\, or stop by the store for you tickets!</span></div>\n\n<div class="_1r51" style="line-height: 24px\; margin: 4px 12px 12px\; min-height: 24px\; font-family: Helvetica\, Arial\, sans-serif\; color: rgb(29\, 33\, 41)\; font-size: 12px\;">\n<ul class="uiList uiCollapsedList uiCollapsedListHidden _509- _4ki" id="u_jsonp_6_o" style="list-style-type: none\; margin: 0px\; padding: 0px\;">\n	<li style="border-width: 0px\; display: inline-block\; vertical-align: top\;"><a href="https://www.facebook.com/events/discovery/?acontext=%7B%22ref%22%3A70%2C%22source%22%3A1%2C%22action_history%22%3A%22%5B%7B%5C%22surface%5C%22%3A%5C%22permalink%5C%22%2C%5C%22mechanism%5C%22%3A%5C%22surface%5C%22%2C%5C%22extra_data%5C%22%3A%5B%5D%7D%2C%7B%5C%22surface%5C%22%3A%5C%22permalink%5C%22%2C%5C%22mechanism%5C%22%3A%5C%22event_information%5C%22%2C%5C%22extra_data%5C%22%3A%7B%5C%22tag%5C%22%3A%5C%22Causes%5C%22%7D%7D%5D%22%2C%22has_source%22%3Atrue%7D&amp\;suggestion_token=%7B%22event_categories%22%3A%5B1284277608291920%5D%7D" style="color: rgb(54\, 88\, 153)\; cursor: pointer\; text-decoration-line: none\; font-family: inherit\;"><span class="_47od" style="background-color: rgb(237\, 242\, 250)\; border-radius: 2px\; color: rgb(32\, 55\, 95)\; display: block\; height: 14px\; line-height: 14px\; margin: 0px 4px 4px 0px\; padding: 4px 6px\; position: relative\; font-family: inherit\;">Causes</span></a></li>\n</ul>\n</div>\n
LOCATION:The Habitat Store 3005 Simpson Avenue Hoquiam
UID:e.26.8295
SEQUENCE:3
DTSTAMP:20260425T200453Z
URL:https://chamber.graysharbor.org/events/details/there-s-no-place-like-home-12th-annual-dinner-auction-8295
END:VEVENT

END:VCALENDAR
