BEGIN:VCALENDAR
VERSION:2.0
PRODID:-//ChamberMaster//Event Calendar 2.0//EN
METHOD:PUBLISH
X-PUBLISHED-TTL:P3D
REFRESH-INTERVAL:P3D
CALSCALE:GREGORIAN
BEGIN:VEVENT
DTSTART:20190427T170000Z
DTEND:20190427T180000Z
X-MICROSOFT-CDO-ALLDAYEVENT:FALSE
SUMMARY:Third Annual Montesano Clean-Up
DESCRIPTION:We're coming back to help cleanup the streets! The more people we have to help\, the bigger impact we can make! Just bring a pair of gloves and we will provide the garbage bags\, Savory Faire Cinnamon Rolls\, and water!! Let's eliminate the litter!
X-ALT-DESC;FMTTYPE=text/html:<span style="caret-color: rgb(29\, 33\, 41)\; color: rgb(29\, 33\, 41)\; font-family: system-ui\, -apple-system\, BlinkMacSystemFont\, &quot\;.SFNSText-Regular&quot\;\, sans-serif\; font-size: 14px\; white-space: pre-wrap\;">We&#39\;re coming back to help cleanup the streets! The more people we have to help\, the bigger impact we can make! Just bring a pair of gloves and we will provide the garbage bags\, Savory Faire Cinnamon Rolls\, and water!! Let&#39\;s eliminate the litter! </span>
LOCATION:pin 141 S Main St
UID:e.26.11937
SEQUENCE:3
DTSTAMP:20260424T151022Z
URL:https://chamber.graysharbor.org/events/details/third-annual-montesano-clean-up-11937
END:VEVENT

END:VCALENDAR
