BEGIN:VCALENDAR
VERSION:2.0
PRODID:-//ChamberMaster//Event Calendar 2.0//EN
METHOD:PUBLISH
X-PUBLISHED-TTL:P3D
REFRESH-INTERVAL:P3D
CALSCALE:GREGORIAN
BEGIN:VEVENT
DTSTART:20170624T143000Z
DTEND:20170624T160000Z
X-MICROSOFT-CDO-ALLDAYEVENT:FALSE
SUMMARY:Tide Pool Walk
DESCRIPTION:Tide pool Walk with Naturalist Steve Green
X-ALT-DESC;FMTTYPE=text/html:<p><font size="3"><font face="Times New Roman"><span style="color: rgb(80\, 80\, 80)\;">&nbsp\; &nbsp\;Tide pool Walk with Naturalist Steve Green&nbsp\; &nbsp\; &nbsp\; &nbsp\; &nbsp\; &nbsp\; &nbsp\; &nbsp\; &nbsp\; &nbsp\; &nbsp\; &nbsp\;</span><span style="color: rgb(80\, 80\, 80)\; font-family: &quot\;Helvetica&quot\;\,&quot\;sans-serif&quot\;\;"><o:p></o:p></span></font></font></p>\n
LOCATION:Meet at the Oyhut Bay Village Square Oyhut Bay Ocean Shores\, WA
UID:e.26.7737
SEQUENCE:3
DTSTAMP:20260426T032527Z
URL:https://chamber.graysharbor.org/events/details/tide-pool-walk-7737
END:VEVENT

END:VCALENDAR
