BEGIN:VCALENDAR
VERSION:2.0
PRODID:-//ChamberMaster//Event Calendar 2.0//EN
METHOD:PUBLISH
X-PUBLISHED-TTL:P3D
REFRESH-INTERVAL:P3D
CALSCALE:GREGORIAN
BEGIN:VEVENT
DTSTART:20170625T143000Z
DTEND:20170625T160000Z
X-MICROSOFT-CDO-ALLDAYEVENT:FALSE
SUMMARY:Tide Pool Walk
DESCRIPTION:Tide pool Walk with Naturalist Steve Green
X-ALT-DESC;FMTTYPE=text/html:<span style="color: rgb(80\, 80\, 80)\; font-family: &quot\;Times New Roman&quot\;\,&quot\;serif&quot\;\; font-size: 12pt\; mso-fareast-font-family: Calibri\; mso-fareast-theme-font: minor-latin\; mso-ansi-language: EN-US\; mso-fareast-language: EN-US\; mso-bidi-language: AR-SA\;">Tide pool Walk with Naturalist Steve Green&nbsp\; &nbsp\; &nbsp\; &nbsp\; &nbsp\; &nbsp\; &nbsp\;&nbsp\;&nbsp\;&nbsp\;&nbsp\;&nbsp\;&nbsp\;&nbsp\;&nbsp\;&nbsp\;&nbsp\;</span>
LOCATION:Meet at the Oyhut Bay Village Square Oyhut Bay Ocean Shores\, WA
UID:e.26.7738
SEQUENCE:3
DTSTAMP:20260426T015131Z
URL:https://chamber.graysharbor.org/events/details/tide-pool-walk-7738
END:VEVENT

END:VCALENDAR
