BEGIN:VCALENDAR
VERSION:2.0
PRODID:-//ChamberMaster//Event Calendar 2.0//EN
METHOD:PUBLISH
X-PUBLISHED-TTL:P3D
REFRESH-INTERVAL:P3D
CALSCALE:GREGORIAN
BEGIN:VEVENT
DTSTART:20191102T180000Z
DTEND:20191104T010000Z
X-MICROSOFT-CDO-ALLDAYEVENT:FALSE
SUMMARY:Tides & Anchors Holiday Open House
DESCRIPTION:Head to Tides & Anchors Boutique for for mimosas\, snacks\, and shopping! They will have lots of new holiday inventory to share with you. Also check out Pomegranate in nearby Grayland and Stitches in Westport as they will also be hosting a Holiday Open House.
X-ALT-DESC;FMTTYPE=text/html:<span style="font-size:14px\;"><span style="box-sizing: border-box\; -webkit-font-smoothing: subpixel-antialiased\; margin: 0px\; padding: 0px\; border: 0px\; outline: 0px\; font-family: &quot\;Roboto Condensed&quot\;\; vertical-align: baseline\; color: rgb(20\, 20\, 20)\; caret-color: rgb(29\, 33\, 41)\; white-space: pre-wrap\;"><font color="#000000" face="arial" style="box-sizing: border-box\; -webkit-font-smoothing: subpixel-antialiased\;">Head to Tides &amp\; Anchors Boutique for for mimosas\, snacks\, and shopping! They will have lots of new holiday inventory to share with you. Also check out Pomegranate in nearby Grayland and Stitches in Westport as they will also be hosting a Holiday Open House. </font></span></span>
LOCATION:2421 Westhaven Dr. Westport\, Washington 98595
UID:e.26.12244
SEQUENCE:3
DTSTAMP:20260424T042137Z
URL:https://chamber.graysharbor.org/events/details/tides-anchors-holiday-open-house-12244
END:VEVENT

END:VCALENDAR
