BEGIN:VCALENDAR
VERSION:2.0
PRODID:-//ChamberMaster//Event Calendar 2.0//EN
METHOD:PUBLISH
X-PUBLISHED-TTL:P3D
REFRESH-INTERVAL:P3D
CALSCALE:GREGORIAN
BEGIN:VEVENT
DTSTART:20180317T010000Z
DTEND:20180317T030000Z
X-MICROSOFT-CDO-ALLDAYEVENT:FALSE
SUMMARY:Tides Of Change VIP Dinner & Auction
DESCRIPTION:Ocean Shores/North Beach Chamber of Commerce VIP dinner and auction. Music by Ericka Corban.\n\nDoors open at 5pm. \n\n$40\n\nRSVP by March 1st.\n\nSponsored by the QBRC.
X-ALT-DESC;FMTTYPE=text/html:<span style="color: rgb(75\, 79\, 86)\; font-family: Helvetica\, Arial\, sans-serif\; font-size: 14px\; background-color: rgb(255\, 255\, 255)\;">Ocean Shores/North Beach Chamber of Commerce VIP dinner and auction. Music by Ericka Corban.</span><br style="color: rgb(75\, 79\, 86)\; font-family: Helvetica\, Arial\, sans-serif\; font-size: 14px\; background-color: rgb(255\, 255\, 255)\;" />\n<span style="color: rgb(75\, 79\, 86)\; font-family: Helvetica\, Arial\, sans-serif\; font-size: 14px\; background-color: rgb(255\, 255\, 255)\;">Doors open at 5pm.&nbsp\;</span><br style="color: rgb(75\, 79\, 86)\; font-family: Helvetica\, Arial\, sans-serif\; font-size: 14px\; background-color: rgb(255\, 255\, 255)\;" />\n<span style="color: rgb(75\, 79\, 86)\; font-family: Helvetica\, Arial\, sans-serif\; font-size: 14px\; background-color: rgb(255\, 255\, 255)\;">$40</span><br style="color: rgb(75\, 79\, 86)\; font-family: Helvetica\, Arial\, sans-serif\; font-size: 14px\; background-color: rgb(255\, 255\, 255)\;" />\n<span style="color: rgb(75\, 79\, 86)\; font-family: Helvetica\, Arial\, sans-serif\; font-size: 14px\; background-color: rgb(255\, 255\, 255)\;">RSVP by March 1st.</span><br style="color: rgb(75\, 79\, 86)\; font-family: Helvetica\, Arial\, sans-serif\; font-size: 14px\; background-color: rgb(255\, 255\, 255)\;" />\n<span style="color: rgb(75\, 79\, 86)\; font-family: Helvetica\, Arial\, sans-serif\; font-size: 14px\; background-color: rgb(255\, 255\, 255)\;">Sponsored by the QBRC.</span>
LOCATION:Shilo Inn Ocean Shores 707 Ocean Shores Blvd
UID:e.26.9546
SEQUENCE:3
DTSTAMP:20260425T132925Z
URL:https://chamber.graysharbor.org/events/details/tides-of-change-vip-dinner-auction-9546
END:VEVENT

END:VCALENDAR
