BEGIN:VCALENDAR
VERSION:2.0
PRODID:-//ChamberMaster//Event Calendar 2.0//EN
METHOD:PUBLISH
X-PUBLISHED-TTL:P3D
REFRESH-INTERVAL:P3D
CALSCALE:GREGORIAN
BEGIN:VEVENT
DTSTART;VALUE=DATE:20190509
DTEND;VALUE=DATE:20190510
TRANSP:TRANSPARENT
X-MICROSOFT-CDO-ALLDAYEVENT:TRUE
SUMMARY:Timberland Bank Ribbon Cutting
DESCRIPTION:Timberland Bank is planning to have their official ribbon cutting this Thursday\, May 9th at 1:30 pm! They plan to announce the winner of the $500 grand re-opening prize\, as well as the local nonprofit was chosen for a $500 match. Join Greater Grays Harbor\, Inc. and community members to find out who won this Thursday!
X-ALT-DESC;FMTTYPE=text/html:<span style="caret-color: rgb(34\, 34\, 34)\; color: rgb(34\, 34\, 34)\; font-family: Arial\, Helvetica\, sans-serif\; font-size: small\;">Timberland Bank is planning to have their official ribbon cutting this Thursday\, May 9</span><sup style="caret-color: rgb(34\, 34\, 34)\; color: rgb(34\, 34\, 34)\; font-family: Arial\, Helvetica\, sans-serif\;">th</sup><span style="caret-color: rgb(34\, 34\, 34)\; color: rgb(34\, 34\, 34)\; font-family: Arial\, Helvetica\, sans-serif\; font-size: small\;">&nbsp\;at 1:30 pm! They plan to announce the winner of the $500 grand re-opening prize\, as well as the local nonprofit was chosen for a $500 match. Join Greater Grays Harbor\, Inc. and community members to find out who won this Thursday!</span>
LOCATION:Timberland Bank 117 N Broadway Aberdee\, WA
UID:e.26.11996
SEQUENCE:3
DTSTAMP:20260424T132908Z
URL:https://chamber.graysharbor.org/events/details/timberland-bank-ribbon-cutting-11996
END:VEVENT

END:VCALENDAR
