BEGIN:VCALENDAR
VERSION:2.0
PRODID:-//ChamberMaster//Event Calendar 2.0//EN
METHOD:PUBLISH
X-PUBLISHED-TTL:P3D
REFRESH-INTERVAL:P3D
CALSCALE:GREGORIAN
BEGIN:VEVENT
DTSTART:20181229T040000Z
DTEND:20181229T053000Z
X-MICROSOFT-CDO-ALLDAYEVENT:FALSE
SUMMARY:Tinderbox New Years Eve Party
DESCRIPTION:We are celebrating the New Year with live music\, and coffee! Come listen to Garrison Cash Music\, accompanied by Christian Svinth and Jordan Wakeman! \n\n\n\nYou can pre-purchase tickets at the shop\, or bring $10 the night of!
X-ALT-DESC;FMTTYPE=text/html:<span style="caret-color: rgb(29\, 33\, 41)\; color: rgb(29\, 33\, 41)\; font-family: system-ui\, -apple-system\, BlinkMacSystemFont\, &quot\;.SFNSText-Regular&quot\;\, sans-serif\; font-size: 14px\; background-color: rgb(255\, 255\, 255)\;">We are celebrating the New Year with live music\, and coffee! Come listen to Garrison Cash Music\, accompanied by Christian Svinth and Jordan Wakeman!&nbsp\;</span><br style="caret-color: rgb(29\, 33\, 41)\; color: rgb(29\, 33\, 41)\; font-family: system-ui\, -apple-system\, BlinkMacSystemFont\, &quot\;.SFNSText-Regular&quot\;\, sans-serif\; font-size: 14px\;" />\n<br style="caret-color: rgb(29\, 33\, 41)\; color: rgb(29\, 33\, 41)\; font-family: system-ui\, -apple-system\, BlinkMacSystemFont\, &quot\;.SFNSText-Regular&quot\;\, sans-serif\; font-size: 14px\;" />\n<span style="caret-color: rgb(29\, 33\, 41)\; color: rgb(29\, 33\, 41)\; font-family: system-ui\, -apple-system\, BlinkMacSystemFont\, &quot\;.SFNSText-Regular&quot\;\, sans-serif\; font-size: 14px\; background-color: rgb(255\, 255\, 255)\;">You can pre-purchase tickets at the shop\, or bring $10 the night of!</span>
LOCATION:pin Tinderbox Coffee Roasters 113 E Wishkah St\, Aberdeen\, Washington 98520
UID:e.26.11372
SEQUENCE:3
DTSTAMP:20260424T210756Z
URL:https://chamber.graysharbor.org/events/details/tinderbox-new-years-eve-party-11372
END:VEVENT

END:VCALENDAR
