BEGIN:VCALENDAR
VERSION:2.0
PRODID:-//ChamberMaster//Event Calendar 2.0//EN
METHOD:PUBLISH
X-PUBLISHED-TTL:P3D
REFRESH-INTERVAL:P3D
CALSCALE:GREGORIAN
BEGIN:VEVENT
DTSTART:20191102T200000Z
DTEND:20191103T030000Z
X-MICROSOFT-CDO-ALLDAYEVENT:FALSE
SUMMARY:Toast the Harbor Food and Wine Festival
DESCRIPTION:Aberdeen Lion's Club 15th annual Toast the Harbor Food and Wine Festival. Tickets available in Aberdeen at Tinderbox and Journey Travel - in Hoquiam at Timberland Bank and Harbor Drug - in Ocean Shores at Ocean Beach Roasters & Bistro and Flying Cats. $15 pre-sale or $20 at the door. Tickets can also be purchased online at www.toasttheharbor.com
X-ALT-DESC;FMTTYPE=text/html:Aberdeen Lion&#39\;s Club 15th annual Toast the Harbor Food and Wine Festival. Tickets available in Aberdeen at Tinderbox and Journey Travel - in Hoquiam at Timberland Bank and Harbor Drug - in Ocean Shores at Ocean Beach Roasters &amp\; Bistro and Flying Cats. $15 pre-sale or $20 at the door. Tickets can also be purchased online at www.toasttheharbor.com
LOCATION:Quinault Beach Resort & Casino
UID:e.26.12234
SEQUENCE:3
DTSTAMP:20260424T042514Z
URL:https://chamber.graysharbor.org/events/details/toast-the-harbor-food-and-wine-festival-12234
END:VEVENT

END:VCALENDAR
