BEGIN:VCALENDAR
VERSION:2.0
PRODID:-//ChamberMaster//Event Calendar 2.0//EN
METHOD:PUBLISH
X-PUBLISHED-TTL:P3D
REFRESH-INTERVAL:P3D
CALSCALE:GREGORIAN
BEGIN:VEVENT
DTSTART:20171104T210000Z
DTEND:20171105T040000Z
X-MICROSOFT-CDO-ALLDAYEVENT:FALSE
SUMMARY:Toast the Harbor Food & Wine Festival
DESCRIPTION:Toast the Harbor Wine & Food Festival\n\n\n\nToast the Harbor 2017 is the Aberdeen Lions Club's 13th year organizing and sponsoring this event. It is our major fundraiser every year. 100% of net Wine and Ticket Sales goes to Charities and Community Projects of the Aberdeen Lions Club.\n\nThere will be several Wineries\, a couple Breweries and one Distiller providing tastes of their labors. There will be Food vendors from the area\, and Retail vendors to supplement your Holiday gift shopping. Our Silent Auction is always a crowd pleaser\, with a large variety of items\, usually including Gift Certificates\, Trips\, Wines\, themed baskets\, and so much more.\n\n\n\nTicket price includes Admission\, Commemorative Wine Glass\, 5 Sampling Tickets\, a Wine Tote Bag and the event program.\n\n\n\nhttps://www.facebook.com/events/1873423366227033/?acontext=%7B%22ref%22%3A%2244%22%2C%22unit_ref%22%3A%22related_events%22%2C%22action_history%22%3A%22[%7B%5C%22surface%5C%22%3A%5C%22permalink%5C%22%2C%5C%22mechanism%5C%22%3A%5C%22RHC%5C%22%2C%5C%22extra_data%5C%22%3A[]%7D]%22%7D
X-ALT-DESC;FMTTYPE=text/html:<span style="color: rgb(75\, 79\, 86)\; font-family: Helvetica\, Arial\, sans-serif\; font-size: 14px\; background-color: rgb(255\, 255\, 255)\;">Toast the Harbor Wine &amp\; Food Festival</span><br style="color: rgb(75\, 79\, 86)\; font-family: Helvetica\, Arial\, sans-serif\; font-size: 14px\; background-color: rgb(255\, 255\, 255)\;" />\n<br style="color: rgb(75\, 79\, 86)\; font-family: Helvetica\, Arial\, sans-serif\; font-size: 14px\; background-color: rgb(255\, 255\, 255)\;" />\n<span style="color: rgb(75\, 79\, 86)\; font-family: Helvetica\, Arial\, sans-serif\; font-size: 14px\; background-color: rgb(255\, 255\, 255)\;">Toast the Harbor 2017 is the Aberdeen Lions Club&rsquo\;s 13th year organizing and sponsoring this event. It is our major fundraiser every year. 100% of net Wine and Ticket Sales goes to Charities and Community Projects of the Aberdeen Lions Club.</span><br style="color: rgb(75\, 79\, 86)\; font-family: Helvetica\, Arial\, sans-serif\; font-size: 14px\; background-color: rgb(255\, 255\, 255)\;" />\n<span style="color: rgb(75\, 79\, 86)\; font-family: Helvetica\, Arial\, sans-serif\; font-size: 14px\; background-color: rgb(255\, 255\, 255)\;">There will be several Wineries\, a couple Breweries and one Distiller providing tastes of their labors. There will be Food vendors from the area\, and Retail vendors to supplement your Holiday gift shopping. Our Silent Auction is always a crowd pleaser\, with a large variety of items\, usually including Gift Certificates\, Trips\, Wines\, themed baskets\, and so much more.</span><br style="color: rgb(75\, 79\, 86)\; font-family: Helvetica\, Arial\, sans-serif\; font-size: 14px\; background-color: rgb(255\, 255\, 255)\;" />\n<br style="color: rgb(75\, 79\, 86)\; font-family: Helvetica\, Arial\, sans-serif\; font-size: 14px\; background-color: rgb(255\, 255\, 255)\;" />\n<span style="color: rgb(75\, 79\, 86)\; font-family: Helvetica\, Arial\, sans-serif\; font-size: 14px\; background-color: rgb(255\, 255\, 255)\;">Ticket price includes Admission\, Commemorative Wine Glass\, 5 Sampling Tickets\, a Wine Tote Bag and the event program.</span><br />\n<br />\nhttps://www.facebook.com/events/1873423366227033/?acontext=%7B%22ref%22%3A%2244%22%2C%22unit_ref%22%3A%22related_events%22%2C%22action_history%22%3A%22[%7B%5C%22surface%5C%22%3A%5C%22permalink%5C%22%2C%5C%22mechanism%5C%22%3A%5C%22RHC%5C%22%2C%5C%22extra_data%5C%22%3A[]%7D]%22%7D
LOCATION:Quinault Beach Resort and Casino Ocean Shores\, WA
UID:e.26.7643
SEQUENCE:3
DTSTAMP:20260425T181818Z
URL:https://chamber.graysharbor.org/events/details/toast-the-harbor-food-wine-festival-7643
END:VEVENT

END:VCALENDAR
