BEGIN:VCALENDAR
VERSION:2.0
PRODID:-//ChamberMaster//Event Calendar 2.0//EN
METHOD:PUBLISH
X-PUBLISHED-TTL:P3D
REFRESH-INTERVAL:P3D
CALSCALE:GREGORIAN
BEGIN:VEVENT
DTSTART:20171111T020000Z
DTEND:20171111T060000Z
X-MICROSOFT-CDO-ALLDAYEVENT:FALSE
SUMMARY:Toast to Vets Celebration
DESCRIPTION:Mill 109 Restaurant and Pub partners with Wishkah River Distillery for this social gathering celebrating the heroes in our community\, the Veterans\n\n\n\n4 specialty cocktails made with Wishkah River Distillery Spirits will be paired with 4 mouth-watering small plates created by Mill 109 chefs.\n\n\n\nDrink\, Eat\, and Dance the night away!\n\n+21 Party for Adults\n\nLive Music with Karl Penn\, Jackie Mitchell\, & Dustin Adair\n\nTickets $50- purchase online by 11/01 to get extra drink tickets!\n\n\n\n* A portion of the proceeds from the night will go to our local VF\n\n\n\n	Party
X-ALT-DESC;FMTTYPE=text/html:<div class="_2qgs" style="color: rgb(75\, 79\, 86)\; padding: 12px\; position: relative\; border-top: none\; font-family: Helvetica\, Arial\, sans-serif\; font-size: 12px\;"><span class="_4n-j _3cht fsl" data-testid="event-permalink-details" style="font-size: 14px\; font-family: inherit\;">Mill 109 Restaurant and Pub partners with Wishkah River Distillery for this social gathering celebrating the heroes in our community\, the Veterans<br />\n<br />\n4 specialty cocktails made with Wishkah River Distillery Spirits will be paired with 4 mouth-watering small plates created by Mill 109 chefs.<br />\n<br />\nDrink\, Eat\, and Dance the night away!<br />\n+21 Party for Adults<br />\nLive Music with&nbsp\;<a aria-controls="js_5oh" aria-describedby="js_5oi" aria-haspopup="true" data-hovercard="/ajax/hovercard/user.php?id=1477081603&amp\;extragetparams=%7B%22directed_target_id%22%3A2025154557731437%7D" data-hovercard-prefer-more-content-show="1" href="https://www.facebook.com/karl.penn.9" id="js_5oj" style="color: rgb(54\, 88\, 153)\; cursor: pointer\; text-decoration-line: none\; font-family: inherit\;">Karl Penn</a>\,&nbsp\;<a data-hovercard="/ajax/hovercard/user.php?id=610753378&amp\;extragetparams=%7B%22directed_target_id%22%3A2025154557731437%7D" data-hovercard-prefer-more-content-show="1" href="https://www.facebook.com/jackie.mitchell.5811" style="color: rgb(54\, 88\, 153)\; cursor: pointer\; text-decoration-line: none\; font-family: inherit\;">Jackie Mitchell</a>\, &amp\;&nbsp\;<a data-hovercard="/ajax/hovercard/user.php?id=573674065&amp\;extragetparams=%7B%22directed_target_id%22%3A2025154557731437%7D" data-hovercard-prefer-more-content-show="1" href="https://www.facebook.com/dustinradair" style="color: rgb(54\, 88\, 153)\; cursor: pointer\; text-decoration-line: none\; font-family: inherit\;">Dustin Adair</a><br />\nTickets $50- purchase online by 11/01 to get extra drink tickets!<br />\n<br />\n* A portion of the proceeds from the night will go to our local VF</span></div>\n\n<div class="_1r51" style="line-height: 24px\; margin: 4px 12px 12px\; min-height: 24px\; font-family: Helvetica\, Arial\, sans-serif\; color: rgb(29\, 33\, 41)\; font-size: 12px\;">\n<ul class="uiList uiCollapsedList uiCollapsedListHidden _509- _4ki" id="u_jsonp_18_p" style="list-style-type: none\; margin: 0px\; padding: 0px\;">\n	<li style="border-width: 0px\; display: inline-block\; vertical-align: top\;"><a href="https://www.facebook.com/events/discovery/?acontext=%7B%22ref%22%3A3%2C%22ref_newsfeed_story_type%22%3A%22regular%22%2C%22source%22%3A1%2C%22action_history%22%3A%22%5B%7B%5C%22surface%5C%22%3A%5C%22permalink%5C%22%2C%5C%22mechanism%5C%22%3A%5C%22surface%5C%22%2C%5C%22extra_data%5C%22%3A%5B%5D%7D%2C%7B%5C%22surface%5C%22%3A%5C%22permalink%5C%22%2C%5C%22mechanism%5C%22%3A%5C%22event_information%5C%22%2C%5C%22extra_data%5C%22%3A%7B%5C%22tag%5C%22%3A%5C%22Party%5C%22%7D%7D%5D%22%2C%22has_source%22%3Atrue%7D&amp\;suggestion_token=%7B%22event_categories%22%3A%5B183019258855149%5D%7D" style="color: rgb(54\, 88\, 153)\; cursor: pointer\; text-decoration-line: none\; font-family: inherit\;"><span class="_47od" style="background-color: rgb(237\, 242\, 250)\; border-radius: 2px\; color: rgb(32\, 55\, 95)\; display: block\; height: 14px\; line-height: 14px\; margin: 0px 4px 4px 0px\; padding: 4px 6px\; position: relative\; font-family: inherit\;">Party</span></a></li>\n</ul>\n</div>\n
LOCATION:Mill 109 Seabrook Pacific Beach
UID:e.26.8293
SEQUENCE:3
DTSTAMP:20260425T181425Z
URL:https://chamber.graysharbor.org/events/details/toast-to-vets-celebration-8293
END:VEVENT

END:VCALENDAR
