BEGIN:VCALENDAR
VERSION:2.0
PRODID:-//ChamberMaster//Event Calendar 2.0//EN
METHOD:PUBLISH
X-PUBLISHED-TTL:P3D
REFRESH-INTERVAL:P3D
CALSCALE:GREGORIAN
BEGIN:VEVENT
DTSTART:20181111T020000Z
DTEND:20181111T060000Z
X-MICROSOFT-CDO-ALLDAYEVENT:FALSE
SUMMARY:Toast to Vets Party
DESCRIPTION:TOAST TO VETS PARTY | FRIDAY NOVEMBER 10 | 6PM-10PM | TOWN HALL \n\n| $50 INDIVIDUAL/$90 PER COUPLE |* Please Pay at the Door
X-ALT-DESC;FMTTYPE=text/html:<span style="margin: 0px\; outline: none 0px\; padding: 0px\; color: rgb(57\, 79\, 90)\; font-family: Ubuntu\, arial\, sans-serif\; font-size: 14px\; background-color: rgb(246\, 247\, 247)\;">TOAST TO VETS PARTY | FRIDAY NOVEMBER 10 | 6PM-10PM | TOWN HALL&nbsp\;</span><br style="margin: 0px\; outline: none 0px\; padding: 0px\; color: rgb(57\, 79\, 90)\; font-family: Ubuntu\, arial\, sans-serif\; font-size: 14px\; background-color: rgb(246\, 247\, 247)\;" />\n<span style="margin: 0px\; outline: none 0px\; padding: 0px\; color: rgb(57\, 79\, 90)\; font-family: Ubuntu\, arial\, sans-serif\; font-size: 14px\; background-color: rgb(246\, 247\, 247)\;">| $50 INDIVIDUAL/$90 PER COUPLE |* Please Pay at the Door</span>
LOCATION:Town Hall Seabrook Pacific Beach\, WA
UID:e.26.9475
SEQUENCE:3
DTSTAMP:20260424T224252Z
URL:https://chamber.graysharbor.org/events/details/toast-to-vets-party-9475
END:VEVENT

END:VCALENDAR
