BEGIN:VCALENDAR
VERSION:2.0
PRODID:-//ChamberMaster//Event Calendar 2.0//EN
METHOD:PUBLISH
X-PUBLISHED-TTL:P3D
REFRESH-INTERVAL:P3D
CALSCALE:GREGORIAN
BEGIN:VEVENT
DTSTART:20190908T013000Z
DTEND:20190908T030000Z
X-MICROSOFT-CDO-ALLDAYEVENT:FALSE
SUMMARY:Tony Starlight at Seabrook's Fall Concert Series
DESCRIPTION:Tony Starlight will take the stage at Seabrook's Fall Concert Series on Saturday\, Sept. 7. Tony is one of the Pacific Northwest's most beloved entertainers. He is a musician\, comedian\, producer and venue owner. He specializes in song parodies\, impressions of pop icons and tributes to pop culture phenomena. Tony is also the owner and operator of The Tony Starlight Showroom where he writes and performs music and comedy. \n\nTony impersonates everyone from Dean Martin to Axl Rose\, Frank Sinatra to Tom Jones\, Bob Seger and Elton John to Cat Stevens\, but his specialty is Neil Diamond. \n\nHis show lampoons pop culture with tributes to "Schoolhouse Rock" and "Solid Gold." He is always creating new theme shows and recently added a 007 James Bond Show\, which is a spectacle to behold.
X-ALT-DESC;FMTTYPE=text/html:<p style="font-size: 16px\; box-sizing: border-box\; margin: 0px 0px 1.25em\; padding: 0px\; direction: ltr\; font-family: myriad-pro\, sans-serif\; line-height: 1.45\; text-rendering: optimizeLegibility\; letter-spacing: 0.47999998927116394px\; caret-color: rgb(84\, 102\, 108)\; color: rgb(84\, 102\, 108)\;"><span style="color:#000000\;"><span style="font-family:arial\;"><span style="box-sizing: border-box\; line-height: 1.45\;">Tony Starlight will take the stage at Seabrook&#39\;s Fall Concert Series on Saturday\, Sept. 7.&nbsp\;</span></span></span><span style="color:#000000\;"><span style="font-family:arial\;"><span style="box-sizing: border-box\; line-height: 1.45\;">Tony is one of the Pacific Northwest&rsquo\;s most beloved entertainers.&nbsp\;</span></span></span><span style="color:#000000\;"><span style="font-family:arial\;"><span style="box-sizing: border-box\; line-height: 1.45\;">He is a musician\, comedian\, producer and venue owner. He specializes in song parodies\, impressions of pop icons and tributes to pop culture phenomena.&nbsp\;</span></span></span><span style="color:#000000\;"><span style="font-family:arial\;"><span style="box-sizing: border-box\; line-height: 1.45\;">Tony is also the owner and operator of The Tony Starlight Showroom where he writes and performs music and comedy.&nbsp\;</span></span></span></p>\n\n<p style="font-size: 16px\; box-sizing: border-box\; margin: 0px 0px 1.25em\; padding: 0px\; direction: ltr\; font-family: myriad-pro\, sans-serif\; line-height: 1.45\; text-rendering: optimizeLegibility\; letter-spacing: 0.47999998927116394px\; caret-color: rgb(84\, 102\, 108)\; color: rgb(84\, 102\, 108)\;"><span style="color:#000000\;"><span style="font-family:arial\;"><span style="box-sizing: border-box\; line-height: 1.45\;">Tony impersonates everyone from Dean Martin to Axl Rose\, Frank Sinatra to Tom Jones\, Bob Seger and Elton John to Cat Stevens\, but his specialty is Neil Diamond.&nbsp\;</span></span></span></p>\n\n<p style="font-size: 16px\; box-sizing: border-box\; margin: 0px 0px 1.25em\; padding: 0px\; direction: ltr\; font-family: myriad-pro\, sans-serif\; line-height: 1.45\; text-rendering: optimizeLegibility\; letter-spacing: 0.47999998927116394px\; caret-color: rgb(84\, 102\, 108)\; color: rgb(84\, 102\, 108)\;"><span style="color:#000000\;"><span style="font-family:arial\;"><span style="box-sizing: border-box\; line-height: 1.45\;">His show lampoons pop culture with tributes to &ldquo\;Schoolhouse Rock&rdquo\; and &ldquo\;Solid Gold.&rdquo\; He is always creating new theme shows and recently added a&nbsp\;</span>007 James Bond Show<span style="box-sizing: border-box\; line-height: 1.45\;">\, which is a spectacle to behold.</span></span></span></p>\n
LOCATION:Seabrook Washington Pacific Beach\, WA
UID:e.26.12182
SEQUENCE:3
DTSTAMP:20260424T074254Z
URL:https://chamber.graysharbor.org/events/details/tony-starlight-at-seabrook-s-fall-concert-series-12182
END:VEVENT

END:VCALENDAR
