BEGIN:VCALENDAR
VERSION:2.0
PRODID:-//ChamberMaster//Event Calendar 2.0//EN
METHOD:PUBLISH
X-PUBLISHED-TTL:P3D
REFRESH-INTERVAL:P3D
CALSCALE:GREGORIAN
BEGIN:VEVENT
DTSTART:20190205T013000Z
DTEND:20190205T030000Z
X-MICROSOFT-CDO-ALLDAYEVENT:FALSE
SUMMARY:Town Hall Meeting
DESCRIPTION:Representative Derek Kilmer (D-WA) announced tthat he will reschedule the town halls meetings he was forced to cancel last week because of the federal government shutdown.\n\n \n\n"One of the most important things I can do as an elected representative is listen to my bosses the people of our region." Kilmer said. "I am looking forward to hearing from the folks I represent and sharing my ideas for ways Congress can prevent future government shutdowns and focus on the issues that matter most for our region's families and economy."
X-ALT-DESC;FMTTYPE=text/html:<p dir="ltr" style="line-height: 1.38\; margin-top: 0pt\; margin-bottom: 0pt\;"><span id="docs-internal-guid-bf3c0595-7fff-2ec1-4019-a0413f0d8099"><span style="font-size: 12pt\; font-family: &quot\;Times New Roman&quot\;\; color: rgb(34\, 34\, 34)\; font-weight: 700\; font-variant-ligatures: normal\; font-variant-east-asian: normal\; font-variant-position: normal\; vertical-align: baseline\; white-space: pre-wrap\;">Representative Derek Kilmer (D-WA) </span><span style="font-size: 12pt\; font-family: &quot\;Times New Roman&quot\;\; color: rgb(34\, 34\, 34)\; font-variant-ligatures: normal\; font-variant-east-asian: normal\; font-variant-position: normal\; vertical-align: baseline\; white-space: pre-wrap\;">announced tthat he will reschedule the town halls meetings he was forced to cancel last week because of the federal government shutdown.</span></span><br />\n&nbsp\;</p>\n\n<p dir="ltr" style="line-height: 1.38\; margin-top: 0pt\; margin-bottom: 0pt\;"><span id="docs-internal-guid-bf3c0595-7fff-2ec1-4019-a0413f0d8099"><span style="font-size: 12pt\; font-family: &quot\;Times New Roman&quot\;\; color: rgb(34\, 34\, 34)\; font-weight: 700\; font-variant-ligatures: normal\; font-variant-east-asian: normal\; font-variant-position: normal\; vertical-align: baseline\; white-space: pre-wrap\;">&ldquo\;One of the most important things I can do as an elected representative is listen to my bosses&mdash\;the people of our region.&rdquo\; </span><span style="font-size: 12pt\; font-family: &quot\;Times New Roman&quot\;\; color: rgb(34\, 34\, 34)\; font-variant-ligatures: normal\; font-variant-east-asian: normal\; font-variant-position: normal\; vertical-align: baseline\; white-space: pre-wrap\;">Kilmer said</span><span style="font-size: 12pt\; font-family: &quot\;Times New Roman&quot\;\; color: rgb(34\, 34\, 34)\; font-weight: 700\; font-variant-ligatures: normal\; font-variant-east-asian: normal\; font-variant-position: normal\; vertical-align: baseline\; white-space: pre-wrap\;">. &ldquo\;I am looking forward to hearing from the folks I represent and sharing my ideas for ways Congress can prevent future government shutdowns and focus on the issues that matter most for our region&rsquo\;s families and economy.&rdquo\;</span></span></p>\n
LOCATION:Montesano City Hall 112 N Main St. Montesano\, WA
UID:e.26.11748
SEQUENCE:3
DTSTAMP:20260424T181448Z
URL:https://chamber.graysharbor.org/events/details/town-hall-meeting-11748
END:VEVENT

END:VCALENDAR
